BEGIN:VCALENDAR
VERSION:2.0
PRODID:-//BELOW100.ORG - ECPv6.15.17.1//NONSGML v1.0//EN
CALSCALE:GREGORIAN
METHOD:PUBLISH
X-WR-CALNAME:BELOW100.ORG
X-ORIGINAL-URL:https://www.below100.org
X-WR-CALDESC:Events for BELOW100.ORG
REFRESH-INTERVAL;VALUE=DURATION:PT1H
X-Robots-Tag:noindex
X-PUBLISHED-TTL:PT1H
BEGIN:VTIMEZONE
TZID:America/Los_Angeles
BEGIN:DAYLIGHT
TZOFFSETFROM:-0800
TZOFFSETTO:-0700
TZNAME:PDT
DTSTART:20240310T100000
END:DAYLIGHT
BEGIN:STANDARD
TZOFFSETFROM:-0700
TZOFFSETTO:-0800
TZNAME:PST
DTSTART:20241103T090000
END:STANDARD
BEGIN:DAYLIGHT
TZOFFSETFROM:-0800
TZOFFSETTO:-0700
TZNAME:PDT
DTSTART:20250309T100000
END:DAYLIGHT
BEGIN:STANDARD
TZOFFSETFROM:-0700
TZOFFSETTO:-0800
TZNAME:PST
DTSTART:20251102T090000
END:STANDARD
BEGIN:DAYLIGHT
TZOFFSETFROM:-0800
TZOFFSETTO:-0700
TZNAME:PDT
DTSTART:20260308T100000
END:DAYLIGHT
BEGIN:STANDARD
TZOFFSETFROM:-0700
TZOFFSETTO:-0800
TZNAME:PST
DTSTART:20261101T090000
END:STANDARD
BEGIN:DAYLIGHT
TZOFFSETFROM:-0800
TZOFFSETTO:-0700
TZNAME:PDT
DTSTART:20270314T100000
END:DAYLIGHT
BEGIN:STANDARD
TZOFFSETFROM:-0700
TZOFFSETTO:-0800
TZNAME:PST
DTSTART:20271107T090000
END:STANDARD
END:VTIMEZONE
BEGIN:VTIMEZONE
TZID:America/Chicago
BEGIN:DAYLIGHT
TZOFFSETFROM:-0600
TZOFFSETTO:-0500
TZNAME:CDT
DTSTART:20240310T080000
END:DAYLIGHT
BEGIN:STANDARD
TZOFFSETFROM:-0500
TZOFFSETTO:-0600
TZNAME:CST
DTSTART:20241103T070000
END:STANDARD
BEGIN:DAYLIGHT
TZOFFSETFROM:-0600
TZOFFSETTO:-0500
TZNAME:CDT
DTSTART:20250309T080000
END:DAYLIGHT
BEGIN:STANDARD
TZOFFSETFROM:-0500
TZOFFSETTO:-0600
TZNAME:CST
DTSTART:20251102T070000
END:STANDARD
BEGIN:DAYLIGHT
TZOFFSETFROM:-0600
TZOFFSETTO:-0500
TZNAME:CDT
DTSTART:20260308T080000
END:DAYLIGHT
BEGIN:STANDARD
TZOFFSETFROM:-0500
TZOFFSETTO:-0600
TZNAME:CST
DTSTART:20261101T070000
END:STANDARD
BEGIN:DAYLIGHT
TZOFFSETFROM:-0600
TZOFFSETTO:-0500
TZNAME:CDT
DTSTART:20270314T080000
END:DAYLIGHT
BEGIN:STANDARD
TZOFFSETFROM:-0500
TZOFFSETTO:-0600
TZNAME:CST
DTSTART:20271107T070000
END:STANDARD
END:VTIMEZONE
BEGIN:VTIMEZONE
TZID:America/New_York
BEGIN:DAYLIGHT
TZOFFSETFROM:-0500
TZOFFSETTO:-0400
TZNAME:EDT
DTSTART:20250309T070000
END:DAYLIGHT
BEGIN:STANDARD
TZOFFSETFROM:-0400
TZOFFSETTO:-0500
TZNAME:EST
DTSTART:20251102T060000
END:STANDARD
BEGIN:DAYLIGHT
TZOFFSETFROM:-0500
TZOFFSETTO:-0400
TZNAME:EDT
DTSTART:20260308T070000
END:DAYLIGHT
BEGIN:STANDARD
TZOFFSETFROM:-0400
TZOFFSETTO:-0500
TZNAME:EST
DTSTART:20261101T060000
END:STANDARD
BEGIN:DAYLIGHT
TZOFFSETFROM:-0500
TZOFFSETTO:-0400
TZNAME:EDT
DTSTART:20270314T070000
END:DAYLIGHT
BEGIN:STANDARD
TZOFFSETFROM:-0400
TZOFFSETTO:-0500
TZNAME:EST
DTSTART:20271107T060000
END:STANDARD
END:VTIMEZONE
BEGIN:VEVENT
DTSTART;TZID=America/Los_Angeles:20251031T080000
DTEND;TZID=America/Los_Angeles:20251031T120000
DTSTAMP:20260425T212325
CREATED:20250909T021644Z
LAST-MODIFIED:20251003T020428Z
UID:3239-1761897600-1761912000@www.below100.org
SUMMARY:Below 100 Intensive Course – Roseville\, CA (Day 2)
DESCRIPTION:Training Sessions: \n\n\nOctober 31st\nIntensive Course:  8AM – 12PM** \nThis course is open to attendees from outside law enforcement agencies. \nLocation:\nBridgeway Church\nHS Ministry Room\n8150 Industrial Ave\nRoseville\, CA 95678 \nHosted By:\nRoseville Police Department \nRegistration:\nContact Lt. Rob Pratt at rpratt@roseville.ca.us or (916) 774-5079. \n\nTraining provided by Below 100 Core Trainer Steve West. \nDownload: Promotional Flyer
URL:https://www.below100.org/event/below-100-intensive-train-the-trainer-courses-roseville-ca-day-2/
LOCATION:Bridgeway Church\, 8150 Industrial Ave\, Roseville\, CA\, 95678
ORGANIZER;CN="Lt. Rob Pratt":MAILTO:rpratt@roseville.ca.us
END:VEVENT
BEGIN:VEVENT
DTSTART;TZID=America/Los_Angeles:20251107T080000
DTEND;TZID=America/Los_Angeles:20251107T170000
DTSTAMP:20260425T212325
CREATED:20250821T044420Z
LAST-MODIFIED:20251009T165911Z
UID:3214-1762502400-1762534800@www.below100.org
SUMMARY:Below 100 Intensive / Train-the-Trainer Courses - Lenexa\, KS
DESCRIPTION:Training Sessions: \n\n\n\nIntensive Course:  8AM – 12PM (no limit\, may attend this portion only)\nTrain The Trainer Course:  1PM – 5PM** – Limit 15 attendees who are agency recognized instructors \n** You must attend the Intensive Course in order to attend the Train the Trainer Course \nThese courses are open to attendees from outside law enforcement agencies. \nLocation:\nLenexa Police Department\nCommunity Room\n17371 Prairie Star Parkway\nLenexa\, KS 66219 \nHosted By:\nLenexa Police Department \nRegistration:\nContact Sgt. Ryan Giles at (913) 825-8023 or rgiles@lenexa.com    \n\nTraining provided by Below 100 Core Trainers Tim Lowry & Dale Stockton. \nDownload: Promotional Flyer
URL:https://www.below100.org/event/below-100-intensive-train-the-trainer-courses-lenexa-ks/
LOCATION:Lenexa Police Department\, 17371 Prairie Star Parkway\, Lenexa\, KS\, 66219
ORGANIZER;CN="Ryan Giles":MAILTO:rgiles@lenexa.com
END:VEVENT
BEGIN:VEVENT
DTSTART;TZID=America/Los_Angeles:20251113T080000
DTEND;TZID=America/Los_Angeles:20251113T170000
DTSTAMP:20260425T212325
CREATED:20251027T205741Z
LAST-MODIFIED:20251027T214840Z
UID:3248-1763020800-1763053200@www.below100.org
SUMMARY:Below 100 Intensive / Train-the-Trainer Courses - Tucson\, AZ
DESCRIPTION:Training Sessions: \nIntensive Course:  8AM – 12PM (no limit\, may attend this portion only)\nTrain The Trainer Course:  1PM – 5PM** – Limit 15 attendees who are agency recognized instructors \n** You must attend the Intensive Course in order to attend the Train the Trainer Course \nThese courses are open to attendees from outside law enforcement agencies. \nLocation: \nTucson Police Department Academy\n10001 S. Wilmot Road\nTucson\, AZ 85756 \nHosted By:\nTucson Police Department \nRegistration:\nContact Ofc. Heather Mah at (520) 539-7857 or heather.mah@tucsonaz.gov \nTraining provided by Below 100 Core Trainer Scot Haug. \nDownload: Promotional Flyer
URL:https://www.below100.org/event/below-100-intensive-train-the-trainer-courses-tucson-az/
LOCATION:Tucson Police Department Academy\, 10001 S. Wilmot Road\, Tucson\, AZ\, 85756
ORGANIZER;CN="Ofc. Heather Mah":MAILTO:heather.mah@tucsonaz.gov
END:VEVENT
BEGIN:VEVENT
DTSTART;TZID=America/Los_Angeles:20251120T080000
DTEND;TZID=America/Los_Angeles:20251120T170000
DTSTAMP:20260425T212325
CREATED:20251107T002800Z
LAST-MODIFIED:20251107T005634Z
UID:3277-1763625600-1763658000@www.below100.org
SUMMARY:Heart of the Badge: Below 100 Intensive & Train-the-Trainer - Spring\, TX
DESCRIPTION:TRAINING SESSIONS: \nIntensive Course:  8AM – 12PM (no limit\, may attend this portion only)\nComplimentary Lunch:  12PM – 1PM\nTrain The Trainer Course:  1PM – 5PM** – Limit 15 attendees who are TCOLE instructors\nFREE Coronary Calcium Score CT Scan courtesy of Samuel Family Cardiology \n** You must attend the Intensive Course in order to attend the Train the Trainer Course \nThese courses are open to attendees from outside law enforcement agencies. \nLocation:\nMarriott Courtyard\n22742 Holzwarth Rd\nSpring\, TX 77389\n(281) 353-1910 \nRegistration:\nRegister online here – https://form.jotform.com/252951373928164\nContact Katie Alexander at (832) 527-2170 or katie.alexander@txlel.org \n\nTraining provided by Below 100 Core Trainers Katie Alexander & Dale Stockton. \nDownload: Promotional Flyer
URL:https://www.below100.org/event/heart-of-the-badge-below-100-intensive-train-the-trainer-spring-tx/
LOCATION:Marriott Courtyard\, 22742 Holzwarth Road\, Spring\, TX\, 77389
ORGANIZER;CN="Katie Alexander":MAILTO:katie.alexander@txlel.org
END:VEVENT
BEGIN:VEVENT
DTSTART;TZID=America/Los_Angeles:20251203T080000
DTEND;TZID=America/Los_Angeles:20251203T170000
DTSTAMP:20260425T212325
CREATED:20251107T013702Z
LAST-MODIFIED:20251111T012209Z
UID:3282-1764748800-1764781200@www.below100.org
SUMMARY:Below 100 Intensive & Train-the-Trainer Courses - Portland\, OR
DESCRIPTION:TRAINING SESSIONS: \nIntensive Course:  8AM – 12PM (no limit\, may attend this portion only)\nTrain-the-Trainer Course:  1PM – 5PM** – Limit 15 attendees who are agency recognized instructors \n** You must attend the Intensive Course in order to attend the Train-the-Trainer Course \nThese courses are open to attendees from outside law enforcement agencies. \nLocation:\nPublic Safety Training Center\n12700 SE 82nd Avenue\nClackamas\, OR 97015\n(503) 794-8072 \nHost Agency:\nClackamas County Sheriff’s Office \nRegistration:\nContact Sgt. Kyle Malizia (503) 201-3461 or kmalizia@clackamas.us \n\nTraining provided by Below 100 Core Trainer Dale Stockton. \nDownload: Promotional Flyer
URL:https://www.below100.org/event/below-100-intensive-train-the-trainer-courses-portland-or/
LOCATION:Public Safety Training Center\, 12700 SE 82nd Avenue\, Clackamas\, OR\, 97015
ORGANIZER;CN="Sgt. Kyle Malizia":MAILTO:kmalizia@clackamas.us
END:VEVENT
BEGIN:VEVENT
DTSTART;TZID=America/Chicago:20251216T080000
DTEND;TZID=America/Chicago:20251216T170000
DTSTAMP:20260425T212325
CREATED:20251203T083415Z
LAST-MODIFIED:20260103T044559Z
UID:3296-1765872000-1765904400@www.below100.org
SUMMARY:Below 100 Intensive & Train-the-Trainer Courses – Johnston\, IA
DESCRIPTION:TRAINING SESSIONS: \nIntensive Course:  8AM – 12PM (no limit\, may attend this portion only)\nTrain-the-Trainer Course:  1PM – 5PM** – Limit 15 attendees who are agency recognized instructors \n** You must attend the Intensive Course in order to attend the Train-the-Trainer Course \nThese courses are open to attendees from outside law enforcement agencies. \nLocation:\nIowa Law Enforcement Academy\n7105 NW 70th Ave\nBurma Rd – Bldg 4640\nJohnston\, IA 50131 \nHost Agency:\nIowa Law Enforcement Academy \nRegistration:\nIntensive Course – Link\nTrain-the-Trainer Course – Link \nContact:\nLindsey Mosher\nE: lindsey.mosher2@iowa.gov \nP: (515) 331-5774 \n\nTraining provided by Below 100 Core Trainer Eric Dickinson. \nDownload: Promotional Flyer
URL:https://www.below100.org/event/below-100-intensive-train-the-trainer-courses-johnston-ia/
LOCATION:Iowa Law Enforcement Academy\, 7105 NW 70th Ave\, Burma Rd - Bldg 4640\, Johnston\, IA\, 50131
ORGANIZER;CN="Lindsey Mosher":MAILTO:lindsey.mosher2@iowa.gov
END:VEVENT
BEGIN:VEVENT
DTSTART;TZID=America/Los_Angeles:20251216T080000
DTEND;TZID=America/Los_Angeles:20251216T180000
DTSTAMP:20260425T212325
CREATED:20251105T075011Z
LAST-MODIFIED:20251217T012443Z
UID:3272-1765872000-1765908000@www.below100.org
SUMMARY:Below 100 Intensive Courses - Whitpain Twp\, PA
DESCRIPTION:Training Sessions: \nIntensive Course:  8AM – 12PM (no limit\, may attend this portion only)\nIntensive Course: 2PM – 6PM (no limit\, may attend this portion only) \nThese courses are open to attendees from outside law enforcement agencies. \nLocation: \nWhitpain Township Building\n960 Wentz Road\nBlue Bell\, PA 19422 \nHosted By:\nWhitpain Twp Police Department \nRegistration:\nContact Lt. Brian Sweisfurth at (610) 279-9033 or bsweisfurth@whitpainpolice.org \nTraining provided by Below 100 Core Trainer Geoff Bush. \nDownload: Promotional Flyer
URL:https://www.below100.org/event/below-100-intensive-courses-whitpain-twp-pa/
LOCATION:Whitpain Township Building\, 960 Wentz Road\, Blue Bell\, PA\, 19422
ORGANIZER;CN="Lt. Brian Sweisfurth":MAILTO:bsweisfurth@whitpainpolice.org
END:VEVENT
BEGIN:VEVENT
DTSTART;TZID=America/Los_Angeles:20260123T080000
DTEND;TZID=America/Los_Angeles:20260123T170000
DTSTAMP:20260425T212325
CREATED:20251217T005829Z
LAST-MODIFIED:20251217T072510Z
UID:3311-1769155200-1769187600@www.below100.org
SUMMARY:Below 100 Intensive & Train-the-Trainer Courses – New Braunfels\, TX
DESCRIPTION:TRAINING SESSIONS: \nIntensive Course:  8AM – 12PM (no limit\, may attend this portion only)\nTrain-the-Trainer Course:  1PM – 5PM* – Limit 25 attendees who are agency recognized instructors \n* You must attend the Intensive Course in order to attend the Train-the-Trainer Course \nThese courses are open to attendees from outside law enforcement agencies. \nLocation:\nNew Braunfels Police Department\n3030 W San Antonio Street\nNew Braunfels\, TX 78130 \nHost Agency:\nNew Braunfels Police Department \nContact to Register:\nKatie Alexander\nE: katie.alexander@tmpa.org\nP: (832) 527-2170 \n\nTraining provided by Below 100 Core Trainers Katie Alexander & Trent Lozano. \nDownload: Promotional Flyer
URL:https://www.below100.org/event/below-100-intensive-train-the-trainer-courses-new-braunfels-tx/
LOCATION:New Braunfels Police Department\, 3030 W San Antonio Street\, New Braunfels\, TX\, 78130
ORGANIZER;CN="Katie Alexander":MAILTO:katie.alexander@txlel.org
END:VEVENT
BEGIN:VEVENT
DTSTART;TZID=America/Chicago:20260218T080000
DTEND;TZID=America/Chicago:20260218T170000
DTSTAMP:20260425T212325
CREATED:20260122T191551Z
LAST-MODIFIED:20260129T033951Z
UID:3382-1771401600-1771434000@www.below100.org
SUMMARY:Below 100 Intensive & Train-the-Trainer Courses – El Paso\, TX
DESCRIPTION:TRAINING SESSIONS: \nIntensive Course:  8AM – 12PM (no limit\, may attend this portion only)\nTrain-the-Trainer Course:  1PM – 5PM* – Limit 25 attendees who are agency recognized instructors \n* You must attend the Intensive Course in order to attend the Train-the-Trainer Course \nThese courses are open to attendees from outside law enforcement agencies. \nLocation:\nEl Paso County Sheriff’s Academy\n12501 Montana Ave. Ste. B\nEl Paso\, TX 79938 \nHost Agency:\nEl Paso Sheriff’s Office \nRegistration:\nClick this link to register online – REGISTER \nContact with Questions:\nKatie Alexander\nE: katie.alexander@tmpa.org\nP: (832) 527-2170 \n\nTraining provided by Below 100 Core Trainers Katie Alexander & Trent Lozano. \nDownload: Promotional Flyer
URL:https://www.below100.org/event/below-100-intensive-train-the-trainer-courses-el-paso-tx/
LOCATION:El Paso County Sheriff’s Academy\, 12501 Montana Ave. Ste. B\, El Paso\, TX\, 79938
ORGANIZER;CN="Katie Alexander":MAILTO:katie.alexander@txlel.org
END:VEVENT
BEGIN:VEVENT
DTSTART;TZID=America/Chicago:20260225T140000
DTEND;TZID=America/Chicago:20260225T180000
DTSTAMP:20260425T212325
CREATED:20260209T234543Z
LAST-MODIFIED:20260209T234543Z
UID:3480-1772028000-1772042400@www.below100.org
SUMMARY:Below 100 Intensive Course - Murfreesboro\, TN (Day 1)
DESCRIPTION:TRAINING SESSION: \nIntensive Course:  2PM – 6PM (no limit\, may attend this portion only) \nThis course is open to attendees from outside law enforcement agencies. \nLocation:\nMurfreesboro Police Department\n1004 N. Highland Avenue\nMurfreesboro\, TN 37130 \nHost Agency:\nMurfreesboro Police Department \nTo Register Contact:\nLt. Amy Denton\nE: 0316@murfreesborotn.gov\nP: (629) 201-5580 \n\nTraining provided by Below 100 Core Trainer Scot Haug. \nDownload: Promotional Flyer
URL:https://www.below100.org/event/below-100-intensive-course-murfreesboro-tn-day-1/
LOCATION:Murfreesboro Police Department\, 1004 N. Highland Avenue\, Murfreesboro\, TN\, 37130\, United States
ORGANIZER;CN="Lt. Amy Denton":MAILTO:0316@murfreesborotn.gov
END:VEVENT
BEGIN:VEVENT
DTSTART;TZID=America/New_York:20260227T080000
DTEND;TZID=America/New_York:20260227T170000
DTSTAMP:20260425T212325
CREATED:20260205T204356Z
LAST-MODIFIED:20260207T054230Z
UID:3457-1772179200-1772211600@www.below100.org
SUMMARY:Below 100 Intensive & Train-the-Trainer Courses – Harrisburg\, PA
DESCRIPTION:TRAINING SESSIONS: \nIntensive Course:  8AM – 12PM (no limit\, may attend this portion only)\nTrain-the-Trainer Course:  1PM – 5PM* – Limit 15 attendees who are agency recognized instructors \n* You must attend the Intensive Course in order to attend the Train-the-Trainer Course \nThese courses are open to attendees from outside law enforcement agencies. \nTraining provided by Below 100 Core Trainer Geoff Bush \nLocation:\nCommonwealth Charter Academy\n1 Innovation Way\, Room 386 on 3rd Floor\nHarrisburg\, PA 17110 \nHost Agency:\nHarrisburg Bureau of Police \nRegistration Contact:\nCpl. Jacobbi Harper\nE: jharper@harrisburgpa.gov\nP: (717) 255-6625 \n\nDownload: Promotional Flyer
URL:https://www.below100.org/event/below-100-intensive-train-the-trainer-courses-harrisburg-pa/
LOCATION:Commonwealth Charter Academy\, 1 Innovation Way\, Harrisburg\, PA\, 17110
ORGANIZER;CN="Cpl. Jacobbi Harper":MAILTO:jharper@harrisburgpa.gov
END:VEVENT
BEGIN:VEVENT
DTSTART;TZID=America/Chicago:20260227T090000
DTEND;TZID=America/Chicago:20260227T130000
DTSTAMP:20260425T212325
CREATED:20260209T234808Z
LAST-MODIFIED:20260210T010220Z
UID:3483-1772182800-1772197200@www.below100.org
SUMMARY:Below 100 Intensive Course - Murfreesboro\, TN (Day 2)
DESCRIPTION:TRAINING SESSION: \nIntensive Course:  9AM – 1PM (no limit\, may attend this portion only) \nThis course is open to attendees from outside law enforcement agencies. \nLocation:\nMurfreesboro Police Department\n1004 N. Highland Avenue\nMurfreesboro\, TN 37130 \nHost Agency:\nMurfreesboro Police Department \nTo Register Contact:\nLt. Amy Denton\nE: 0316@murfreesborotn.gov\nP: (629) 201-5580 \n\nTraining provided by Below 100 Core Trainer Scot Haug. \nDownload: Promotional Flyer
URL:https://www.below100.org/event/below-100-intensive-course-murfreesboro-tn-day-2-2/
LOCATION:Murfreesboro Police Department\, 1004 N. Highland Avenue\, Murfreesboro\, TN\, 37130\, United States
ORGANIZER;CN="Lt. Amy Denton":MAILTO:0316@murfreesborotn.gov
END:VEVENT
BEGIN:VEVENT
DTSTART;TZID=America/Chicago:20260304T080000
DTEND;TZID=America/Chicago:20260304T170000
DTSTAMP:20260425T212325
CREATED:20260109T011213Z
LAST-MODIFIED:20260129T033509Z
UID:3337-1772611200-1772643600@www.below100.org
SUMMARY:Below 100 Intensive & Train-the-Trainer Courses – Baytown\, TX
DESCRIPTION:TRAINING SESSIONS: \nIntensive Course:  8AM – 12PM (no limit\, may attend this portion only)\nTrain-the-Trainer Course:  1PM – 5PM* – Limit 15 attendees who are agency recognized instructors \n* You must attend the Intensive Course in order to attend the Train-the-Trainer Course \nThese courses are open to attendees from outside law enforcement agencies. \nLocation:\nBaytown Police Academy\n203 East Wye Drive\nBaytown\, TX 77521 \nHost Agency:\nBaytown Police Department \nLink to Register:\nhttps://fs29.formsite.com/qaO6E5/physlpplnx/index \nContact for Questions:\nKatie Alexander\nE: katie.alexander@tmpa.org\nP: (832) 527-2170 \n\nTraining provided by Below 100 Core Trainers Katie Alexander and Trent Lozano \nDownload: Promotional Flyer
URL:https://www.below100.org/event/below-100-intensive-train-the-trainer-courses-baytown-tx/
LOCATION:Baytown Police Academy\, 203 East Wye Drive\, Baytown\, TX\, 77521
ORGANIZER;CN="Katie Alexander":MAILTO:katie.alexander@txlel.org
END:VEVENT
BEGIN:VEVENT
DTSTART;TZID=America/Los_Angeles:20260317T080000
DTEND;TZID=America/Los_Angeles:20260317T120000
DTSTAMP:20260425T212325
CREATED:20251209T065643Z
LAST-MODIFIED:20251209T071141Z
UID:3301-1773734400-1773748800@www.below100.org
SUMMARY:Below 100 Intensive Course - Big Rapids\, MI
DESCRIPTION:Training Session: \nIntensive Course:  8AM – 12PM \nThese courses are open to attendees from outside law enforcement agencies. \nLocation: \nStarr Education Center\, Room #233\n901 S. State Street\nBig Rapids\, MI 49307 \nParking Pass:\nhttps://ferris.aimsparking.com/login/index.php \nHosted By:\nFerris State University Police Academy \nRegistration:\nContact Michael Tavtigian\, michael.tavtigian@ferris.edu\, and (231) 591-3272 \nTraining provided by Below 100 Core Trainer Tom Dirlam. \nDownload: Promotional Flyer
URL:https://www.below100.org/event/below-100-intensive-course-big-rapids-mi/
LOCATION:Starr Education Center\, 901 S. State Street\, Big Rapids\, MI\, 49307
ORGANIZER;CN="Michael Tavtigian":MAILTO:michael.tavtigian@ferris.edu
END:VEVENT
BEGIN:VEVENT
DTSTART;TZID=America/New_York:20260324T080000
DTEND;TZID=America/New_York:20260324T163000
DTSTAMP:20260425T212325
CREATED:20260129T013946Z
LAST-MODIFIED:20260129T234113Z
UID:3445-1774339200-1774369800@www.below100.org
SUMMARY:Below 100 Intensive & Train-the-Trainer Courses – Johnstown\, NY
DESCRIPTION:TRAINING SESSIONS: \nIntensive Course:  8AM – 12PM (no limit\, may attend this portion only)\nTrain-the-Trainer Course:  12:30PM – 4:30PM* – Limit 15 attendees who are agency recognized instructors \n* You must attend the Intensive Course in order to attend the Train-the-Trainer Course \nThese courses are open to attendees from outside law enforcement agencies. \nLocation:\nJohnstown Holiday Inn\nAdirondack Room\n308 N. Comrie Avenue\nJohnstown NY 12095 \nHost Agency:\nFulton County Sheriff’s Office\, NYS Sheriffs’ Association\, NYS Governor’s Traffic Safety Committee\, and NYS DCJS \nTo register\, contact:\nAnthony D’Agostino\nE: anthony.dagostino@dmv.ny.gov\nP: (518) 474-5111 \n\nTraining provided by Below 100 Core Trainer Scot Haug \nDownload: Promotional Flyer
URL:https://www.below100.org/event/below-100-intensive-train-the-trainer-courses-johnstown-ny/
LOCATION:Johnstown Holiday Inn\, 308 N. Comrie Avenue\, Johnstown\, NY\, 12095
ORGANIZER;CN="Anthony D%E2%80%99Agostino":MAILTO:anthony.dagostino@dmv.ny.gov
END:VEVENT
BEGIN:VEVENT
DTSTART;TZID=America/New_York:20260326T080000
DTEND;TZID=America/New_York:20260326T163000
DTSTAMP:20260425T212325
CREATED:20260129T014121Z
LAST-MODIFIED:20260129T234034Z
UID:3450-1774512000-1774542600@www.below100.org
SUMMARY:Below 100 Intensive & Train-the-Trainer Courses – Johnstown\, NY
DESCRIPTION:TRAINING SESSIONS: \nIntensive Course:  8AM – 12PM (no limit\, may attend this portion only)\nTrain-the-Trainer Course:  12:30PM – 4:30PM* – Limit 15 attendees who are agency recognized instructors \n* You must attend the Intensive Course in order to attend the Train-the-Trainer Course \nThese courses are open to attendees from outside law enforcement agencies. \nLocation:\nJohnstown Holiday Inn\nAdirondack Room\n308 N. Comrie Avenue\nJohnstown NY 12095 \nHost Agency:\nFulton County Sheriff’s Office\, NYS Sheriffs’ Association\, NYS Governor’s Traffic Safety Committee\, and NYS DCJS \nTo register\, contact:\nAnthony D’Agostino\nE: anthony.dagostino@dmv.ny.gov\nP: (518) 474-5111 \n\nTraining provided by Below 100 Core Trainer Scot Haug \nDownload: Promotional Flyer
URL:https://www.below100.org/event/below-100-intensive-train-the-trainer-courses-johnstown-ny-2/
LOCATION:Johnstown Holiday Inn\, 308 N. Comrie Avenue\, Johnstown\, NY\, 12095
ORGANIZER;CN="Anthony D%E2%80%99Agostino":MAILTO:anthony.dagostino@dmv.ny.gov
END:VEVENT
BEGIN:VEVENT
DTSTART;TZID=America/Chicago:20260413T080000
DTEND;TZID=America/Chicago:20260413T170000
DTSTAMP:20260425T212325
CREATED:20260306T011601Z
LAST-MODIFIED:20260306T042302Z
UID:3503-1776067200-1776099600@www.below100.org
SUMMARY:Below 100 Intensive & Train-the-Trainer Courses – Baton Rouge\, LA
DESCRIPTION:TRAINING SESSIONS: \nIntensive Course:  8AM – 12PM (no limit\, may attend this portion only)\nTrain-the-Trainer Course:  1PM – 5PM* – Limit 15 attendees who are agency recognized instructors \n* You must attend the Intensive Course in order to attend the Train-the-Trainer Course \nThese courses are open to attendees from outside law enforcement agencies. \nLocation:\nLouisiana State Police HQ\, Classroom B\n7919 Independence Blvd.\nBaton Rouge\, LA 70806 \nHost Agency:\nLA Highway Safety Commission \nTo register\, contact:\nTerry Chustz\nE: terry.chustz@la.gov \nP: (225) 922-0082 \n\nTraining provided by Below 100 Core Trainer Katie Alexander\nAssisted by Lt. Jeffery Neyland and Lt. Chuck Foster from East Baton Rouge Sheriff’s Office \nDownload: Promotional Flyer
URL:https://www.below100.org/event/below-100-intensive-train-the-trainer-courses-baton-rouge-la/
LOCATION:Louisiana State Police Headquarters\, 7919 Independence Blvd.\, Baton Rouge\, LA\, 70806
ORGANIZER;CN="Terry Chustz":MAILTO:terry.chustz@la.gov
END:VEVENT
BEGIN:VEVENT
DTSTART;TZID=America/Chicago:20260422T080000
DTEND;TZID=America/Chicago:20260422T170000
DTSTAMP:20260425T212325
CREATED:20260303T055545Z
LAST-MODIFIED:20260303T055856Z
UID:3498-1776844800-1776877200@www.below100.org
SUMMARY:Below 100 Intensive & Train-the-Trainer Courses – Hempstead\, TX
DESCRIPTION:TRAINING SESSIONS: \nIntensive Course:  8AM – 12PM (no limit\, may attend this portion only)\nTrain-the-Trainer Course:  1PM – 5PM* – Limit 15 attendees who are agency recognized instructors \n* You must attend the Intensive Course in order to attend the Train-the-Trainer Course \nThese courses are open to attendees from outside law enforcement agencies. \nLocation:\nWaller County Sheriff’s Office \n100 Sheriff R. Glenn Smith Drive\nHempstead\, TX 77445 \nHost Agency:\nWaller County Sheriff’s Office \nLink to Register:\nhttps://fs29.formsite.com/qaO6E5/physlpplnx/index \nContact for Questions:\nDep. Gregory Brandon\nE: g.brandon@wallercounty.us\nP: (979) 826-8282\, ext. 4085 \n\nTraining provided by Below 100 Core Trainers Katie Alexander and Trent Lozano \nDownload: Promotional Flyer
URL:https://www.below100.org/event/below-100-intensive-train-the-trainer-courses-hempstead-tx/
LOCATION:Waller County Sheriff’s Office\, 100 Sheriff R. Glenn Smith Drive\, Hempstead\, TX\, 77445
ORGANIZER;CN="Dep. Gregory Brandon":MAILTO:g.brandon@wallercounty.us
END:VEVENT
BEGIN:VEVENT
DTSTART;TZID=America/Chicago:20260513T080000
DTEND;TZID=America/Chicago:20260513T170000
DTSTAMP:20260425T212325
CREATED:20260401T043323Z
LAST-MODIFIED:20260401T050000Z
UID:3512-1778659200-1778691600@www.below100.org
SUMMARY:Below 100 Intensive & Train-the-Trainer Courses – St. Charles\, MO
DESCRIPTION:TRAINING SESSIONS: \nIntensive Course:  8AM – 12PM (no limit\, may attend this portion only)\nTrain-the-Trainer Course:  1PM – 5PM* – Limit 15 attendees who are agency recognized instructors \n* You must attend the Intensive Course in order to attend the Train-the-Trainer Course \nThese courses are open to attendees from outside law enforcement agencies. \nLocation:\nSt. Charles Police Department\n1781 Zumbehl Rd.\nSt. Charles\, MO 63303 \nHost Agency:\nSt. Charles Police Department \nContact for Questions or to Register:\nOfc. Matthew Miller\nE: matthew.miller@stcharlescitymo.gov\nP: (636) 538-0634 \n\nTraining provided by Below 100 Core Trainer Braxton Ditty \nDownload: Promotional Flyer
URL:https://www.below100.org/event/below-100-intensive-train-the-trainer-courses-st-charles-mo/
LOCATION:St. Charles Police Department\, 1781 Zumbehl Rd.\, St. Charles\, MO\, 63303
ORGANIZER;CN="Matthew Miller":MAILTO:matthew.miller@stcharlescitymo.gov
END:VEVENT
BEGIN:VEVENT
DTSTART;TZID=America/New_York:20260526T080000
DTEND;TZID=America/New_York:20260526T170000
DTSTAMP:20260425T212325
CREATED:20260217T045214Z
LAST-MODIFIED:20260217T051917Z
UID:3488-1779782400-1779814800@www.below100.org
SUMMARY:Below 100 Intensive & Train-the-Trainer Courses – Bristol\, VA
DESCRIPTION:TRAINING SESSIONS: \nIntensive Course:  8AM – 12PM – Limit 45 attendees (may attend this portion only)\nTrain-the-Trainer Course:  1PM – 5PM* – Limit 15 attendees who are agency recognized instructors \n* You must attend the Intensive Course in order to attend the Train-the-Trainer Course \nThese courses are open to attendees from outside law enforcement agencies. \nLocation:\nSouthwest Virginia Criminal Justice Training Academy\n1595 Bonham Road\nBristol\, VA 24201 \nHost Agency:\nSouthwest Virginia Criminal Justice Training Academy \nRegistration:\nVirginia officers can register through TRACER.  Others\, contact POC directly. \nContact with Questions:\nTim Tester\nE: ttester@svcjta.com\nP: (276) 967-2138 \n\nTraining provided by Below 100 Core Trainer Jeff Welch. \nDownload: Promotional Flyer \n\n\n\n\n\n Add to calendar 
URL:https://www.below100.org/event/below-100-intensive-train-the-trainer-courses-bristol-va/
LOCATION:Southwest Virginia Criminal Justice Training Academy\, 1595 Bonham Road\, Bristol\, VA\, 24201
ORGANIZER;CN="Tim Tester":MAILTO:ttester@svcjta.com
END:VEVENT
END:VCALENDAR