BEGIN:VCALENDAR
VERSION:2.0
PRODID:-//BELOW100.ORG - ECPv6.15.17.1//NONSGML v1.0//EN
CALSCALE:GREGORIAN
METHOD:PUBLISH
X-ORIGINAL-URL:https://www.below100.org
X-WR-CALDESC:Events for BELOW100.ORG
REFRESH-INTERVAL;VALUE=DURATION:PT1H
X-Robots-Tag:noindex
X-PUBLISHED-TTL:PT1H
BEGIN:VTIMEZONE
TZID:America/New_York
BEGIN:DAYLIGHT
TZOFFSETFROM:-0500
TZOFFSETTO:-0400
TZNAME:EDT
DTSTART:20220313T070000
END:DAYLIGHT
BEGIN:STANDARD
TZOFFSETFROM:-0400
TZOFFSETTO:-0500
TZNAME:EST
DTSTART:20221106T060000
END:STANDARD
BEGIN:DAYLIGHT
TZOFFSETFROM:-0500
TZOFFSETTO:-0400
TZNAME:EDT
DTSTART:20230312T070000
END:DAYLIGHT
BEGIN:STANDARD
TZOFFSETFROM:-0400
TZOFFSETTO:-0500
TZNAME:EST
DTSTART:20231105T060000
END:STANDARD
BEGIN:DAYLIGHT
TZOFFSETFROM:-0500
TZOFFSETTO:-0400
TZNAME:EDT
DTSTART:20240310T070000
END:DAYLIGHT
BEGIN:STANDARD
TZOFFSETFROM:-0400
TZOFFSETTO:-0500
TZNAME:EST
DTSTART:20241103T060000
END:STANDARD
BEGIN:DAYLIGHT
TZOFFSETFROM:-0500
TZOFFSETTO:-0400
TZNAME:EDT
DTSTART:20250309T070000
END:DAYLIGHT
BEGIN:STANDARD
TZOFFSETFROM:-0400
TZOFFSETTO:-0500
TZNAME:EST
DTSTART:20251102T060000
END:STANDARD
END:VTIMEZONE
BEGIN:VEVENT
DTSTART;TZID=America/New_York:20240320T080000
DTEND;TZID=America/New_York:20240320T120000
DTSTAMP:20260425T143808
CREATED:20240214T221136Z
LAST-MODIFIED:20240214T221136Z
UID:2735-1710921600-1710936000@www.below100.org
SUMMARY:Below 100 Intensive Course - Waukesha WI
DESCRIPTION:This course is designed to drastically reduce law enforcement Line of Duty Deaths (LODD’s) and specifically addresses the operational areas of law enforcement that contribute to the greatest number of LODD’s\, but are in large part preventable. \nThe Below 100 program is an effort to instill a culture of safety in law enforcement agencies that will progressively reduce national LODD’s to Below 100 annually. \n\nDate: March 20\, 2024\nTime: 8am-12pm\nLocation: Waukesha Police Department\, 1901 Delafield St.\, Waukesha\, WI 53188\nRegistration: https://waukesha.readyop.com/fs/4cqM/48bf98e2\nPoint of Contact: Captain Dan Baumann\n(262) 524-3772 \ndbaumann@waukesha-wi.gov\n\n \n 
URL:https://www.below100.org/event/below-100-intensive-course-waukesha-wi-3/
LOCATION:Waukesha Police Department\, 1901 Delafield Rd\, Waukesha\, WI\, 53188\, United States
CATEGORIES:Below 100 Training Events,Wisconsin Events
END:VEVENT
BEGIN:VEVENT
DTSTART;TZID=America/New_York:20240319T150000
DTEND;TZID=America/New_York:20240319T190000
DTSTAMP:20260425T143808
CREATED:20240214T221043Z
LAST-MODIFIED:20240214T221043Z
UID:2733-1710860400-1710874800@www.below100.org
SUMMARY:Below 100 Intensive Course - Waukesha WI
DESCRIPTION:This course is designed to drastically reduce law enforcement Line of Duty Deaths (LODD’s) and specifically addresses the operational areas of law enforcement that contribute to the greatest number of LODD’s\, but are in large part preventable. \nThe Below 100 program is an effort to instill a culture of safety in law enforcement agencies that will progressively reduce national LODD’s to Below 100 annually. \n\nDate: March 19\, 2024\nTime: 3pm-7pm\nLocation: Waukesha Police Department\, 1901 Delafield St.\, Waukesha\, WI 53188\nRegistration: https://waukesha.readyop.com/fs/4cqM/48bf98e2\nPoint of Contact: Captain Dan Baumann\n(262) 524-3772 \ndbaumann@waukesha-wi.gov\n\n \n 
URL:https://www.below100.org/event/below-100-intensive-course-waukesha-wi-2/
LOCATION:Waukesha Police Department\, 1901 Delafield Rd\, Waukesha\, WI\, 53188\, United States
CATEGORIES:Below 100 Training Events,Wisconsin Events
END:VEVENT
BEGIN:VEVENT
DTSTART;TZID=America/New_York:20240319T080000
DTEND;TZID=America/New_York:20240319T120000
DTSTAMP:20260425T143808
CREATED:20240214T220846Z
LAST-MODIFIED:20240214T220846Z
UID:2728-1710835200-1710849600@www.below100.org
SUMMARY:Below 100 Intensive Course - Waukesha WI
DESCRIPTION:This course is designed to drastically reduce law enforcement Line of Duty Deaths (LODD’s) and specifically addresses the operational areas of law enforcement that contribute to the greatest number of LODD’s\, but are in large part preventable. \nThe Below 100 program is an effort to instill a culture of safety in law enforcement agencies that will progressively reduce national LODD’s to Below 100 annually. \n\nDate: March 19\, 2024\nTime: 8am-12pm\nLocation: Waukesha Police Department\, 1901 Delafield St.\, Waukesha\, WI 53188\nRegistration: https://waukesha.readyop.com/fs/4cqM/48bf98e2\nPoint of Contact: Captain Dan Baumann\n(262) 524-3772 \ndbaumann@waukesha-wi.gov\n\n \n 
URL:https://www.below100.org/event/below-100-intensive-course-waukesha-wi/
LOCATION:Waukesha Police Department\, 1901 Delafield Rd\, Waukesha\, WI\, 53188\, United States
CATEGORIES:Below 100 Training Events,Wisconsin Events
END:VEVENT
BEGIN:VEVENT
DTSTART;TZID=America/New_York:20230802T140000
DTEND;TZID=America/New_York:20230802T180000
DTSTAMP:20260425T143808
CREATED:20230612T192222Z
LAST-MODIFIED:20230612T192222Z
UID:2697-1690984800-1690999200@www.below100.org
SUMMARY:Below 100 Intensive - Prairie du Chien WI
DESCRIPTION:This course is designed to drastically reduce law enforcement Line of Duty Deaths (LODD’s) and specifically addresses the operational areas of law enforcement that contribute to the greatest number of LODD’s\, but are in large part preventable. \nThe Below 100 program is an effort to instill a culture of safety in law enforcement agencies that will progressively reduce national LODD’s to Below 100 annually. \nDate: August 2\, 2023\nTime: 2pm-6pm\nPlace: Prairie Du Chien City Hall\, 214 East Blackhawk Avenue\, Prairie Du Chien\, WI\nInstructed by: Sgt Brian Noll\, Marquette County Sheriff’s Office\nRegistration for the training is listed on WILENET located at https://wilenet.widoj.gov/
URL:https://www.below100.org/event/below-100-intensive-prairie-du-chien-wi/
LOCATION:Prairie du Chien City Hall\, 214 E Blackhawk Ave\, Prairie du Chein WI\, United States
CATEGORIES:Below 100 Training Events,Wisconsin Events
END:VEVENT
END:VCALENDAR