BEGIN:VCALENDAR
VERSION:2.0
PRODID:-//BELOW100.ORG - ECPv6.15.17.1//NONSGML v1.0//EN
CALSCALE:GREGORIAN
METHOD:PUBLISH
X-ORIGINAL-URL:https://www.below100.org
X-WR-CALDESC:Events for BELOW100.ORG
REFRESH-INTERVAL;VALUE=DURATION:PT1H
X-Robots-Tag:noindex
X-PUBLISHED-TTL:PT1H
BEGIN:VTIMEZONE
TZID:America/New_York
BEGIN:DAYLIGHT
TZOFFSETFROM:-0500
TZOFFSETTO:-0400
TZNAME:EDT
DTSTART:20190310T070000
END:DAYLIGHT
BEGIN:STANDARD
TZOFFSETFROM:-0400
TZOFFSETTO:-0500
TZNAME:EST
DTSTART:20191103T060000
END:STANDARD
BEGIN:DAYLIGHT
TZOFFSETFROM:-0500
TZOFFSETTO:-0400
TZNAME:EDT
DTSTART:20200308T070000
END:DAYLIGHT
BEGIN:STANDARD
TZOFFSETFROM:-0400
TZOFFSETTO:-0500
TZNAME:EST
DTSTART:20201101T060000
END:STANDARD
BEGIN:DAYLIGHT
TZOFFSETFROM:-0500
TZOFFSETTO:-0400
TZNAME:EDT
DTSTART:20210314T070000
END:DAYLIGHT
BEGIN:STANDARD
TZOFFSETFROM:-0400
TZOFFSETTO:-0500
TZNAME:EST
DTSTART:20211107T060000
END:STANDARD
END:VTIMEZONE
BEGIN:VEVENT
DTSTART;TZID=America/New_York:20200114T080000
DTEND;TZID=America/New_York:20200114T170000
DTSTAMP:20260425T155105
CREATED:20191119T184858Z
LAST-MODIFIED:20191119T184922Z
UID:2339-1578988800-1579021200@www.below100.org
SUMMARY:Below 100 Intensive/Train The Trainer - Keizer\, OR
DESCRIPTION:This course is designed to drastically reduce law enforcement Line of Duty Deaths (LODD’s) and specifically addresses the operational areas of law enforcement that contribute to the greatest number of LODD’s\, but are in large part preventable. \n\n The Below 100 program is an effort to instill a culture of safety in law enforcement agencies that will progressively reduce national LODD’s to Below 100 annually. \nDate:  January 14\, 2020\n Time: 8am-noon (intensive) and 1pm-5pm (trainer)*\n Location:  Keizer Police Department\, 930 Chemwawa Road NE\, Keizer OR 97303\n Contact Wanda Blaylock for registration at blaylockw@keizer.org or at 503.856.3468 \n *NOTE: You must attend the intensive session before attending the Train the Trainer session
URL:https://www.below100.org/event/below-100-intensive-train-the-trainer-keizer-or/
LOCATION:Keizer Police Department\, 930 Chemwawa Road\, Keizer\, OR\, 97303
CATEGORIES:Below 100 Training Events,Oregon Events
END:VEVENT
END:VCALENDAR