BEGIN:VCALENDAR
VERSION:2.0
PRODID:-//BELOW100.ORG - ECPv6.15.17.1//NONSGML v1.0//EN
CALSCALE:GREGORIAN
METHOD:PUBLISH
X-WR-CALNAME:BELOW100.ORG
X-ORIGINAL-URL:https://www.below100.org
X-WR-CALDESC:Events for BELOW100.ORG
REFRESH-INTERVAL;VALUE=DURATION:PT1H
X-Robots-Tag:noindex
X-PUBLISHED-TTL:PT1H
BEGIN:VTIMEZONE
TZID:America/New_York
BEGIN:DAYLIGHT
TZOFFSETFROM:-0500
TZOFFSETTO:-0400
TZNAME:EDT
DTSTART:20230312T070000
END:DAYLIGHT
BEGIN:STANDARD
TZOFFSETFROM:-0400
TZOFFSETTO:-0500
TZNAME:EST
DTSTART:20231105T060000
END:STANDARD
BEGIN:DAYLIGHT
TZOFFSETFROM:-0500
TZOFFSETTO:-0400
TZNAME:EDT
DTSTART:20240310T070000
END:DAYLIGHT
BEGIN:STANDARD
TZOFFSETFROM:-0400
TZOFFSETTO:-0500
TZNAME:EST
DTSTART:20241103T060000
END:STANDARD
BEGIN:DAYLIGHT
TZOFFSETFROM:-0500
TZOFFSETTO:-0400
TZNAME:EDT
DTSTART:20250309T070000
END:DAYLIGHT
BEGIN:STANDARD
TZOFFSETFROM:-0400
TZOFFSETTO:-0500
TZNAME:EST
DTSTART:20251102T060000
END:STANDARD
END:VTIMEZONE
BEGIN:VEVENT
DTSTART;TZID=America/New_York:20241115T080000
DTEND;TZID=America/New_York:20241115T120000
DTSTAMP:20260425T154418
CREATED:20241008T225201Z
LAST-MODIFIED:20241008T225201Z
UID:2779-1731657600-1731672000@www.below100.org
SUMMARY:Below 100 Intensive - Bernalillo NM
DESCRIPTION:This course is designed to drastically reduce law enforcement Line of Duty Deaths (LODD’s) and specifically addresses the operational areas of law enforcement that contribute to the greatest number of LODD’s\, but are in large part preventable. \nThe Below 100 program is an effort to instill a culture of safety in law enforcement agencies that will progressively reduce national LODD’s to Below 100 annually. \n\nClass Date: November 15\, 2024\nClass Time: 8:00AM-12:00PM\nClass Location: Sandoval County Sheriff’s Office\, 7255 Oersted Rd. NE\, Bernalillo\, NM 87004\nClass Instructor: Deputy Della Murray\nRegistration information: Register by email to dxmurray@sandovalcountynm.gov\n\nBelow100 Flyer November 15\, 2024
URL:https://www.below100.org/event/below-100-intensive-bernalillo-nm/
LOCATION:Sandoval County Sheriff’s Office\, 7255 Oersted Road NE\, Bernalillo\, NM\, 87004\, United States
CATEGORIES:Below 100 Training Events,New Mexico
END:VEVENT
BEGIN:VEVENT
DTSTART;TZID=America/New_York:20240621T180000
DTEND;TZID=America/New_York:20240621T220000
DTSTAMP:20260425T154418
CREATED:20240603T210958Z
LAST-MODIFIED:20240603T210958Z
UID:2761-1718992800-1719007200@www.below100.org
SUMMARY:Below 100 Intensive Course - Bernalillo NM
DESCRIPTION:This course is designed to drastically reduce law enforcement Line of Duty Deaths (LODD’s) and specifically addresses the operational areas of law enforcement that contribute to the greatest number of LODD’s\, but are in large part preventable. \nThe Below 100 program is an effort to instill a culture of safety in law enforcement agencies that will progressively reduce national LODD’s to Below 100 annually. \n\nClass Date: June 21\, 2024\nClass Time: 6:00PM-10:00PM\nClass Location: Sandoval County Sheriff’s Office\, 7255 Oersted Rd. NE\, Bernalillo\, NM 87004\nClass Instructor: Deputy Della Murray and Investigator Philip Holmes\nRegistration information: Register by email to dxmurray@sandovalcountynm.gov\nFor More Information: Below100 Flyer June 2024 pdf
URL:https://www.below100.org/event/below-100-intensive-course-bernalillo-nm-3/
LOCATION:Sandoval County Sheriff’s Office\, 7255 Oersted Road NE\, Bernalillo\, NM\, 87004\, United States
CATEGORIES:Below 100 Training Events,New Mexico
END:VEVENT
BEGIN:VEVENT
DTSTART;TZID=America/New_York:20240620T180000
DTEND;TZID=America/New_York:20240620T220000
DTSTAMP:20260425T154418
CREATED:20240603T210853Z
LAST-MODIFIED:20240603T210853Z
UID:2759-1718906400-1718920800@www.below100.org
SUMMARY:Below 100 Intensive Course - Bernalillo NM
DESCRIPTION:This course is designed to drastically reduce law enforcement Line of Duty Deaths (LODD’s) and specifically addresses the operational areas of law enforcement that contribute to the greatest number of LODD’s\, but are in large part preventable. \nThe Below 100 program is an effort to instill a culture of safety in law enforcement agencies that will progressively reduce national LODD’s to Below 100 annually. \n\nClass Date: June 20\, 2024\nClass Time: 6:00PM-10:00PM\nClass Location: Sandoval County Sheriff’s Office\, 7255 Oersted Rd. NE\, Bernalillo\, NM 87004\nClass Instructor: Deputy Della Murray and Investigator Philip Holmes\nRegistration information: Register by email to dxmurray@sandovalcountynm.gov\nFor More Information: Below100 Flyer June 2024 pdf
URL:https://www.below100.org/event/below-100-intensive-course-bernalillo-nm-2/
LOCATION:Sandoval County Sheriff’s Office\, 7255 Oersted Road NE\, Bernalillo\, NM\, 87004\, United States
CATEGORIES:Below 100 Training Events,New Mexico
END:VEVENT
BEGIN:VEVENT
DTSTART;TZID=America/New_York:20240618T080000
DTEND;TZID=America/New_York:20240618T120000
DTSTAMP:20260425T154418
CREATED:20240603T210720Z
LAST-MODIFIED:20240603T210720Z
UID:2757-1718697600-1718712000@www.below100.org
SUMMARY:Below 100 Intensive Course - Bernalillo NM
DESCRIPTION:This course is designed to drastically reduce law enforcement Line of Duty Deaths (LODD’s) and specifically addresses the operational areas of law enforcement that contribute to the greatest number of LODD’s\, but are in large part preventable. \nThe Below 100 program is an effort to instill a culture of safety in law enforcement agencies that will progressively reduce national LODD’s to Below 100 annually. \n\nClass Date: June 18\, 2024\nClass Time: 8:00AM-12:00PM\nClass Location: Sandoval County Sheriff’s Office\, 7255 Oersted Rd. NE\, Bernalillo\, NM 87004\nClass Instructor: Deputy Della Murray and Investigator Philip Holmes\nRegistration information: Register by email to dxmurray@sandovalcountynm.gov\nFor More Information: Below100 Flyer June 2024 pdf
URL:https://www.below100.org/event/below-100-intensive-course-bernalillo-nm/
LOCATION:Sandoval County Sheriff’s Office\, 7255 Oersted Road NE\, Bernalillo\, NM\, 87004\, United States
CATEGORIES:Below 100 Training Events,New Mexico
END:VEVENT
BEGIN:VEVENT
DTSTART;TZID=America/New_York:20240617T080000
DTEND;TZID=America/New_York:20240617T120000
DTSTAMP:20260425T154418
CREATED:20240603T210531Z
LAST-MODIFIED:20240603T210531Z
UID:2753-1718611200-1718625600@www.below100.org
SUMMARY:Below 100 Intensive Course - Bernalilo NM
DESCRIPTION:This course is designed to drastically reduce law enforcement Line of Duty Deaths (LODD’s) and specifically addresses the operational areas of law enforcement that contribute to the greatest number of LODD’s\, but are in large part preventable. \nThe Below 100 program is an effort to instill a culture of safety in law enforcement agencies that will progressively reduce national LODD’s to Below 100 annually. \n\nClass Date: June 17\, 2024\nClass Time: 8:00AM-12:00PM\nClass Location: Sandoval County Sheriff’s Office\, 7255 Oersted Rd. NE\, Bernalillo\, NM 87004\nClass Instructor: Deputy Della Murray and Investigator Philip Holmes\nRegistration information: Register by email to dxmurray@sandovalcountynm.gov\nFor More Information: Below100 Flyer June 2024 pdf
URL:https://www.below100.org/event/below-100-intensive-course-bernalilo-nm/
LOCATION:Sandoval County Sheriff’s Office\, 7255 Oersted Road NE\, Bernalillo\, NM\, 87004\, United States
CATEGORIES:Below 100 Training Events,New Mexico
END:VEVENT
END:VCALENDAR