BEGIN:VCALENDAR
VERSION:2.0
PRODID:-//BELOW100.ORG - ECPv6.15.17.1//NONSGML v1.0//EN
CALSCALE:GREGORIAN
METHOD:PUBLISH
X-WR-CALNAME:BELOW100.ORG
X-ORIGINAL-URL:https://www.below100.org
X-WR-CALDESC:Events for BELOW100.ORG
REFRESH-INTERVAL;VALUE=DURATION:PT1H
X-Robots-Tag:noindex
X-PUBLISHED-TTL:PT1H
BEGIN:VTIMEZONE
TZID:America/New_York
BEGIN:DAYLIGHT
TZOFFSETFROM:-0500
TZOFFSETTO:-0400
TZNAME:EDT
DTSTART:20220313T070000
END:DAYLIGHT
BEGIN:STANDARD
TZOFFSETFROM:-0400
TZOFFSETTO:-0500
TZNAME:EST
DTSTART:20221106T060000
END:STANDARD
BEGIN:DAYLIGHT
TZOFFSETFROM:-0500
TZOFFSETTO:-0400
TZNAME:EDT
DTSTART:20230312T070000
END:DAYLIGHT
BEGIN:STANDARD
TZOFFSETFROM:-0400
TZOFFSETTO:-0500
TZNAME:EST
DTSTART:20231105T060000
END:STANDARD
BEGIN:DAYLIGHT
TZOFFSETFROM:-0500
TZOFFSETTO:-0400
TZNAME:EDT
DTSTART:20240310T070000
END:DAYLIGHT
BEGIN:STANDARD
TZOFFSETFROM:-0400
TZOFFSETTO:-0500
TZNAME:EST
DTSTART:20241103T060000
END:STANDARD
BEGIN:DAYLIGHT
TZOFFSETFROM:-0500
TZOFFSETTO:-0400
TZNAME:EDT
DTSTART:20250309T070000
END:DAYLIGHT
BEGIN:STANDARD
TZOFFSETFROM:-0400
TZOFFSETTO:-0500
TZNAME:EST
DTSTART:20251102T060000
END:STANDARD
END:VTIMEZONE
BEGIN:VEVENT
DTSTART;TZID=America/New_York:20241007T080000
DTEND;TZID=America/New_York:20241007T120000
DTSTAMP:20260425T143128
CREATED:20240812T175615Z
LAST-MODIFIED:20240812T175730Z
UID:2767-1728288000-1728302400@www.below100.org
SUMMARY:Below 100 Intensive Course - Las Vegas NV
DESCRIPTION:This course is designed to drastically reduce law enforcement Line of Duty Deaths (LODD’s) and specifically addresses the operational areas of law enforcement that contribute to the greatest number of LODD’s\, but are in large part preventable. \nThe Below 100 program is an effort to instill a culture of safety in law enforcement agencies that will progressively reduce national LODD’s to Below 100 annually. \nTitle: Below 100 Course\nDate: October 7\, 2024\nTime: 8:00A-12:00P PST\nLocation: SAHARA Las Vegas\, 2535 S Las Vegas Blvd\, Las Vegas\, NV\nInstructor: Insp. Thomas Dirlam\, Michigan State Police (ret)\nRegistration: This event is being held in conjunction with the Public Safety Broadband Technology Association.  \n                   The class is FREE but please register: https://vision.thepsbta.org/registration/
URL:https://www.below100.org/event/below-100-intensive-course-las-vegas-nv-2/
LOCATION:Sahara Las Vegas\, 2535 S Las Vegas Blvd\, Las Vegas\, NV\, United States
CATEGORIES:Below 100 Training Events,Nevada Events
END:VEVENT
BEGIN:VEVENT
DTSTART;TZID=America/New_York:20230926T080000
DTEND;TZID=America/New_York:20230926T120000
DTSTAMP:20260425T143128
CREATED:20230818T155750Z
LAST-MODIFIED:20230818T155750Z
UID:2714-1695715200-1695729600@www.below100.org
SUMMARY:Below 100 Intensive Course - Las Vegas\, NV
DESCRIPTION:This course is designed to drastically reduce law enforcement Line of Duty Deaths (LODD’s) and specifically addresses the operational areas of law enforcement that contribute to the greatest number of LODD’s\, but are in large part preventable. \nThe Below 100 program is an effort to instill a culture of safety in law enforcement agencies that will progressively reduce national LODD’s to Below 100 annually. \nDate: September 26\, 2023\nTime: 8am-12pm\nLocation: SouthPoint Hotel Casino & Spa\, 9777 S\, Las Vegas Blvd.\, Las Vegas NV\nInstructor: Tom Dirlam\, Below 100 Core Instructor \nThis class is being held in conjunction with the Vision FirstNet Users Summit and access is FREE for all Below 100 attendees\, however\, they must register: https://thepsbta.org/vision-2023-firstnet-users-summit-event-tickets/#register \n  \n 
URL:https://www.below100.org/event/below-100-intensive-course-las-vegas-nv/
LOCATION:SouthPoint Hotel Casino and Spa\, 9777 Las Vegas Blvd. South\, Las Vegas\, NV\, United States
CATEGORIES:Below 100 Training Events,Nevada Events
END:VEVENT
END:VCALENDAR