BEGIN:VCALENDAR
VERSION:2.0
PRODID:-//BELOW100.ORG - ECPv6.15.17.1//NONSGML v1.0//EN
CALSCALE:GREGORIAN
METHOD:PUBLISH
X-WR-CALNAME:BELOW100.ORG
X-ORIGINAL-URL:https://www.below100.org
X-WR-CALDESC:Events for BELOW100.ORG
REFRESH-INTERVAL;VALUE=DURATION:PT1H
X-Robots-Tag:noindex
X-PUBLISHED-TTL:PT1H
BEGIN:VTIMEZONE
TZID:America/Los_Angeles
BEGIN:DAYLIGHT
TZOFFSETFROM:-0800
TZOFFSETTO:-0700
TZNAME:PDT
DTSTART:20240310T100000
END:DAYLIGHT
BEGIN:STANDARD
TZOFFSETFROM:-0700
TZOFFSETTO:-0800
TZNAME:PST
DTSTART:20241103T090000
END:STANDARD
BEGIN:DAYLIGHT
TZOFFSETFROM:-0800
TZOFFSETTO:-0700
TZNAME:PDT
DTSTART:20250309T100000
END:DAYLIGHT
BEGIN:STANDARD
TZOFFSETFROM:-0700
TZOFFSETTO:-0800
TZNAME:PST
DTSTART:20251102T090000
END:STANDARD
BEGIN:DAYLIGHT
TZOFFSETFROM:-0800
TZOFFSETTO:-0700
TZNAME:PDT
DTSTART:20260308T100000
END:DAYLIGHT
BEGIN:STANDARD
TZOFFSETFROM:-0700
TZOFFSETTO:-0800
TZNAME:PST
DTSTART:20261101T090000
END:STANDARD
END:VTIMEZONE
BEGIN:VTIMEZONE
TZID:America/New_York
BEGIN:DAYLIGHT
TZOFFSETFROM:-0500
TZOFFSETTO:-0400
TZNAME:EDT
DTSTART:20190310T070000
END:DAYLIGHT
BEGIN:STANDARD
TZOFFSETFROM:-0400
TZOFFSETTO:-0500
TZNAME:EST
DTSTART:20191103T060000
END:STANDARD
BEGIN:DAYLIGHT
TZOFFSETFROM:-0500
TZOFFSETTO:-0400
TZNAME:EDT
DTSTART:20200308T070000
END:DAYLIGHT
BEGIN:STANDARD
TZOFFSETFROM:-0400
TZOFFSETTO:-0500
TZNAME:EST
DTSTART:20201101T060000
END:STANDARD
BEGIN:DAYLIGHT
TZOFFSETFROM:-0500
TZOFFSETTO:-0400
TZNAME:EDT
DTSTART:20210314T070000
END:DAYLIGHT
BEGIN:STANDARD
TZOFFSETFROM:-0400
TZOFFSETTO:-0500
TZNAME:EST
DTSTART:20211107T060000
END:STANDARD
BEGIN:DAYLIGHT
TZOFFSETFROM:-0500
TZOFFSETTO:-0400
TZNAME:EDT
DTSTART:20220313T070000
END:DAYLIGHT
BEGIN:STANDARD
TZOFFSETFROM:-0400
TZOFFSETTO:-0500
TZNAME:EST
DTSTART:20221106T060000
END:STANDARD
BEGIN:DAYLIGHT
TZOFFSETFROM:-0500
TZOFFSETTO:-0400
TZNAME:EDT
DTSTART:20230312T070000
END:DAYLIGHT
BEGIN:STANDARD
TZOFFSETFROM:-0400
TZOFFSETTO:-0500
TZNAME:EST
DTSTART:20231105T060000
END:STANDARD
BEGIN:DAYLIGHT
TZOFFSETFROM:-0500
TZOFFSETTO:-0400
TZNAME:EDT
DTSTART:20240310T070000
END:DAYLIGHT
BEGIN:STANDARD
TZOFFSETFROM:-0400
TZOFFSETTO:-0500
TZNAME:EST
DTSTART:20241103T060000
END:STANDARD
END:VTIMEZONE
BEGIN:VEVENT
DTSTART;TZID=America/Los_Angeles:20250327T080000
DTEND;TZID=America/Los_Angeles:20250327T170000
DTSTAMP:20260425T143522
CREATED:20250127T005301Z
LAST-MODIFIED:20250213T003001Z
UID:2820-1743062400-1743094800@www.below100.org
SUMMARY:Below 100 Intensive Course - Grand Rapids\, MI
DESCRIPTION:This course is designed to drastically reduce law enforcement Line of Duty Deaths (LODD’s) and specifically addresses the operational areas of law enforcement that contribute to the greatest number of LODD’s\, but are in large part preventable. \nThe Below 100 program is an effort to instill a culture of safety in law enforcement agencies that will progressively reduce national LODD’s to Below 100 annually. \nSession 1 – 8AM – 12PM\nSession 2 – 1PM – 5PM\n \nGrand Rapids Community College\n151 Fountain St. NE\nAuditorium room 168\nGrand Rapids\, MI \n \nContact Karen Coen to reserve your seat.\nkarnencoen@grcc.edu\, (616) 234-4011\nTraining provided free by the Grand Rapids Community College Police Dept.\n 
URL:https://www.below100.org/event/below-100-intensive-grand-rapids-mi/
LOCATION:Grand Rapids Community College\, 151 Fountain Street NE\, Grand Rapids\, MI\, United States
CATEGORIES:Below 100 Training Events,Michigan Events
END:VEVENT
BEGIN:VEVENT
DTSTART;TZID=America/New_York:20230419T130000
DTEND;TZID=America/New_York:20230419T170000
DTSTAMP:20260425T143522
CREATED:20230106T024909Z
LAST-MODIFIED:20230106T024909Z
UID:2672-1681909200-1681923600@www.below100.org
SUMMARY:Below 100 Intensive Course - University Center\, MI
DESCRIPTION:This course is designed to drastically reduce law enforcement Line of Duty Deaths (LODD’s) and specifically addresses the operational areas of law enforcement that contribute to the greatest number of LODD’s\, but are in large part preventable. \nThe Below 100 program is an effort to instill a culture of safety in law enforcement agencies that will progressively reduce national LODD’s to Below 100 annually. \n  \n\nClass Title                            Below 100 Intensive\nClass Date                           Tuesday April 19\, 2023\nClass Time                           1:00pm-5:00pm\nClass Location                    Delta College room C-111 1961 Delta Rd University Center\, MI 48710\nClass Instructor                 Core Instructor Tom Gillman\nRegistration info               www.delta.edu/policeacademy or call Dawn Jurik 989-686-9176\nEvent Flyer:                       Below 100 4 19 2023
URL:https://www.below100.org/event/below-100-intensive-course-university-center-mi/
LOCATION:Delta College Police Academy\, 1961 Delta Road\, University City (Bay City)\, MI\, 48710\, United States
CATEGORIES:Below 100 Training Events,Michigan Events
END:VEVENT
BEGIN:VEVENT
DTSTART;TZID=America/New_York:20211027T083000
DTEND;TZID=America/New_York:20211027T123000
DTSTAMP:20260425T143522
CREATED:20210701T184555Z
LAST-MODIFIED:20210701T184555Z
UID:2569-1635323400-1635337800@www.below100.org
SUMMARY:Below 100 Intensive - Flint\, MI
DESCRIPTION:This course is designed to drastically reduce law enforcement Line of Duty Deaths (LODD’s) and specifically addresses the operational areas of law enforcement that contribute to the greatest number of LODD’s\, but are in large part preventable. \nThe Below 100 program is an effort to instill a culture of safety in law enforcement agencies that will progressively reduce national LODD’s to Below 100 annually. \n\nClass Title       Below 100 Intensive\nClass Date       Wednesday October 27\, 2021\nClass Time      8:30am-12:30pm\nClass Location            Flint Twp. Police Department 5200 Norko Dr Flint\, MI 48507\nClass Instructor           Tom Gillman Core Instructor\nRegistration information         To register contact LEORTC (810)232-2654 or email registration to  registration@leortc.com\nEvent Flyer: Below 100 LEORTC 10 27 2021
URL:https://www.below100.org/event/below-100-intensive-flint-mi-3/
LOCATION:Flint Township Police Department\, 5200 Norko Drive\, Flint\, MI\, 48507\, United States
CATEGORIES:Below 100 Training Events,Michigan Events
END:VEVENT
BEGIN:VEVENT
DTSTART;TZID=America/New_York:20210503T083000
DTEND;TZID=America/New_York:20210503T123000
DTSTAMP:20260425T143522
CREATED:20210319T050020Z
LAST-MODIFIED:20210319T050020Z
UID:2543-1620030600-1620045000@www.below100.org
SUMMARY:Below 100 Intensive Course - Clinton Township\, MI
DESCRIPTION:This course is designed to drastically reduce law enforcement Line of Duty Deaths (LODD’s) and specifically addresses the operational areas of law enforcement that contribute to the greatest number of LODD’s\, but are in large part preventable. \n\nThe Below 100 program is an effort to instill a culture of safety in law enforcement agencies that will progressively reduce national LODD’s to Below 100 annually. \n\nClass Title                   BELOW 100 Intensive\nClass Date                   Monday May 3\, 2021\nClass Time                  8:30am-12:30pm\nClass Location            Macomb Criminal Justice Training Center 21901 Dunham Rd Clinton Twp\, MI 48036 \nClass Instructor           Tom Gillman\, BELOW 100 Core Instructor\nRegistration information         Contact Rachel VanZutphen Phone: (586) 498-4050 Email: cjtc@macomb.edu
URL:https://www.below100.org/event/below-100-intensive-course-clinton-township-mi/
LOCATION:Macomb Criminal Justice Training Center\, 21901 Dunham Rd Rm #142\, Clinton Township\, MI\, 48036\, United States
CATEGORIES:Below 100 Training Events,Michigan Events
END:VEVENT
BEGIN:VEVENT
DTSTART;TZID=America/New_York:20200410T090000
DTEND;TZID=America/New_York:20200410T130000
DTSTAMP:20260425T143522
CREATED:20200130T200842Z
LAST-MODIFIED:20200130T210531Z
UID:2388-1586509200-1586523600@www.below100.org
SUMMARY:Below 100 Intensive - Frederic\, MI
DESCRIPTION:This course is designed to drastically reduce law enforcement Line of Duty Deaths (LODD’s) and specifically addresses the operational areas of law enforcement that contribute to the greatest number of LODD’s\, but are in large part preventable. \nThe Below 100 program is an effort to instill a culture of safety in law enforcement agencies that will progressively reduce national LODD’s to Below 100 annually. \n\nClass Title:  BELOW 100 Intensive\nClass Date:  Friday April 10\, 2020 \nClass Time:  9:00am-1:00pm\nClass Location: Frederic Township Hall 6470 Manistee St. Frederic MI. 49733\nClass Instructor: Core Instructor Tom Gillman\nRegistration information: To register contact: Lt. Kurt Nitschke Phone: (989) 348 8190 or Email:  knitschke@fredericfire.com
URL:https://www.below100.org/event/below-100-intensive-frederic-mi/
LOCATION:MI
CATEGORIES:Below 100 Training Events,Michigan Events
END:VEVENT
BEGIN:VEVENT
DTSTART;TZID=America/New_York:20200226T080000
DTEND;TZID=America/New_York:20200226T120000
DTSTAMP:20260425T143522
CREATED:20200129T200505Z
LAST-MODIFIED:20200129T200505Z
UID:2385-1582704000-1582718400@www.below100.org
SUMMARY:Below 100 Intensive - University Center\, MI
DESCRIPTION:This course is designed to drastically reduce law enforcement Line of Duty Deaths (LODD’s) and specifically addresses the operational areas of law enforcement that contribute to the greatest number of LODD’s\, but are in large part preventable. \nThe Below 100 program is an effort to instill a culture of safety in law enforcement agencies that will progressively reduce national LODD’s to Below 100 annually. \n\nClass Title:  BELOW 100 Intensive\nClass Date:  Wednesday February 26\, 2020 \nClass Time:  8:00am-12:00pm\nClass Location: Delta College Police Academy 1961 Delta Rd University Center\, MI 48710 Room C-111\nClass Instructor: Core Instructor Tom Gillman\n\nRegistration information: Register on-line at www.delta.edu/policeacademy or call Dawn Jurik 989-686-9176. \n 
URL:https://www.below100.org/event/below-100-intensive-university-center-mi/
LOCATION:Delta College Police Academy\, 1961 Delta Road\, University City (Bay City)\, MI\, 48710\, United States
CATEGORIES:Below 100 Training Events,Michigan Events
END:VEVENT
BEGIN:VEVENT
DTSTART;TZID=America/New_York:20200121T080000
DTEND;TZID=America/New_York:20200121T123000
DTSTAMP:20260425T143522
CREATED:20191015T174717Z
LAST-MODIFIED:20191015T174717Z
UID:2318-1579593600-1579609800@www.below100.org
SUMMARY:Below 100 Intensive - Clinton Township\, MI
DESCRIPTION:This course is designed to drastically reduce law enforcement Line of Duty Deaths (LODD’s) and specifically addresses the operational areas of law enforcement that contribute to the greatest number of LODD’s\, but are in large part preventable. \nThe Below 100 program is an effort to instill a culture of safety in law enforcement agencies that will progressively reduce national LODD’s to Below 100 annually. \n\nClass Title       BELOW 100 Intensive\nClass Date       Tuesday January 21\, 2020\nClass Time      8:30am-12:30pm\nClass Location Macomb Criminal Justice Training Center 21901 Dunham Rd Rm #142\, Clinton Twp\, MI 48036 \nClass Instructor Tom Gillman\, BELOW 100 Core Instructor\nRegistration information         Contact Rachel VanZutphen Phone: (586) 498-4050 Email: cjtc@macomb.edu\n\nFor more information\, click here:  Below 100 MCJTC 1 21 2020
URL:https://www.below100.org/event/below-100-intensive-clinton-township-mi-3/
LOCATION:Macomb Criminal Justice Training Center\, 21901 Dunham Rd Rm #142\, Clinton Township\, MI\, 48036\, United States
CATEGORIES:Below 100 Training Events,Michigan Events
END:VEVENT
BEGIN:VEVENT
DTSTART;TZID=America/New_York:20200116T083000
DTEND;TZID=America/New_York:20200116T123000
DTSTAMP:20260425T143522
CREATED:20191119T161215Z
LAST-MODIFIED:20191119T161215Z
UID:2335-1579163400-1579177800@www.below100.org
SUMMARY:Below 100 Intensive - Clio\, MI
DESCRIPTION:This course is designed to drastically reduce law enforcement Line of Duty Deaths (LODD’s) and specifically addresses the operational areas of law enforcement that contribute to the greatest number of LODD’s\, but are in large part preventable. \nThe Below 100 program is an effort to instill a culture of safety in law enforcement agencies that will progressively reduce national LODD’s to Below 100 annually. \n\nClass Title       Below 100 Intensive\nClass Date       Thursday January 16\, 2020\nClass Time      8:30am-12:30pm\nClass Location            Mott Community College – Northern Tier 4082 W. Vienna Rd Clio\, MI 48420\nClass Instructor           Tom Gillman Core Instructor\nRegistration information         To register contact LEORTC (810)232-2654 or email registration to registration@leortc.com
URL:https://www.below100.org/event/below-100-intensive-clio-mi-2/
LOCATION:Mott Community College – Northern Tier\, 4802 W. Vienna Road\, Clio\, MI\, 48420\, United States
CATEGORIES:Below 100 Training Events,Michigan Events
END:VEVENT
END:VCALENDAR