BEGIN:VCALENDAR
VERSION:2.0
PRODID:-//BELOW100.ORG - ECPv6.15.17.1//NONSGML v1.0//EN
CALSCALE:GREGORIAN
METHOD:PUBLISH
X-ORIGINAL-URL:https://www.below100.org
X-WR-CALDESC:Events for BELOW100.ORG
REFRESH-INTERVAL;VALUE=DURATION:PT1H
X-Robots-Tag:noindex
X-PUBLISHED-TTL:PT1H
BEGIN:VTIMEZONE
TZID:America/New_York
BEGIN:DAYLIGHT
TZOFFSETFROM:-0500
TZOFFSETTO:-0400
TZNAME:EDT
DTSTART:20170312T070000
END:DAYLIGHT
BEGIN:STANDARD
TZOFFSETFROM:-0400
TZOFFSETTO:-0500
TZNAME:EST
DTSTART:20171105T060000
END:STANDARD
BEGIN:DAYLIGHT
TZOFFSETFROM:-0500
TZOFFSETTO:-0400
TZNAME:EDT
DTSTART:20180311T070000
END:DAYLIGHT
BEGIN:STANDARD
TZOFFSETFROM:-0400
TZOFFSETTO:-0500
TZNAME:EST
DTSTART:20181104T060000
END:STANDARD
BEGIN:DAYLIGHT
TZOFFSETFROM:-0500
TZOFFSETTO:-0400
TZNAME:EDT
DTSTART:20190310T070000
END:DAYLIGHT
BEGIN:STANDARD
TZOFFSETFROM:-0400
TZOFFSETTO:-0500
TZNAME:EST
DTSTART:20191103T060000
END:STANDARD
END:VTIMEZONE
BEGIN:VEVENT
DTSTART;TZID=America/New_York:20180927T083000
DTEND;TZID=America/New_York:20180927T130000
DTSTAMP:20260425T143748
CREATED:20180726T162605Z
LAST-MODIFIED:20180829T174700Z
UID:1849-1538037000-1538053200@www.below100.org
SUMMARY:Below 100 Intensive - Florence\, KY
DESCRIPTION:This course is designed to drastically reduce law enforcement Line of Duty Deaths (LODD’s) and specifically addresses the operational areas of law enforcement that contribute to the greatest number of LODD’s\, but are in large part preventable. \nThe Below 100 program is an effort to instill a culture of safety in law enforcement agencies that will progressively reduce national LODD’s to Below 100 annually. \n\n\n\nFlorence Police Department \n Community Room C \n 8100 Ewing Blvd.\n Florence\, KY 41042 \nThursday\, September 27\, 2018 – 0830 to 1300 \nFor more information\, click here:  FlorenceKY Flyer
URL:https://www.below100.org/event/100-intensive-florence-ky/
LOCATION:Florence Police Department\, 8100 Ewing Blvd\, Florence\, KY\, 41042\, United States
CATEGORIES:Below 100 Training Events,Kentucky Events
ORGANIZER;CN="Troy Dye":MAILTO:Troy.Dye@ky.gov
END:VEVENT
END:VCALENDAR