BEGIN:VCALENDAR
VERSION:2.0
PRODID:-//BELOW100.ORG - ECPv6.15.17.1//NONSGML v1.0//EN
CALSCALE:GREGORIAN
METHOD:PUBLISH
X-WR-CALNAME:BELOW100.ORG
X-ORIGINAL-URL:https://www.below100.org
X-WR-CALDESC:Events for BELOW100.ORG
REFRESH-INTERVAL;VALUE=DURATION:PT1H
X-Robots-Tag:noindex
X-PUBLISHED-TTL:PT1H
BEGIN:VTIMEZONE
TZID:America/New_York
BEGIN:DAYLIGHT
TZOFFSETFROM:-0500
TZOFFSETTO:-0400
TZNAME:EDT
DTSTART:20180311T070000
END:DAYLIGHT
BEGIN:STANDARD
TZOFFSETFROM:-0400
TZOFFSETTO:-0500
TZNAME:EST
DTSTART:20181104T060000
END:STANDARD
BEGIN:DAYLIGHT
TZOFFSETFROM:-0500
TZOFFSETTO:-0400
TZNAME:EDT
DTSTART:20190310T070000
END:DAYLIGHT
BEGIN:STANDARD
TZOFFSETFROM:-0400
TZOFFSETTO:-0500
TZNAME:EST
DTSTART:20191103T060000
END:STANDARD
BEGIN:DAYLIGHT
TZOFFSETFROM:-0500
TZOFFSETTO:-0400
TZNAME:EDT
DTSTART:20200308T070000
END:DAYLIGHT
BEGIN:STANDARD
TZOFFSETFROM:-0400
TZOFFSETTO:-0500
TZNAME:EST
DTSTART:20201101T060000
END:STANDARD
BEGIN:DAYLIGHT
TZOFFSETFROM:-0500
TZOFFSETTO:-0400
TZNAME:EDT
DTSTART:20210314T070000
END:DAYLIGHT
BEGIN:STANDARD
TZOFFSETFROM:-0400
TZOFFSETTO:-0500
TZNAME:EST
DTSTART:20211107T060000
END:STANDARD
BEGIN:DAYLIGHT
TZOFFSETFROM:-0500
TZOFFSETTO:-0400
TZNAME:EDT
DTSTART:20220313T070000
END:DAYLIGHT
BEGIN:STANDARD
TZOFFSETFROM:-0400
TZOFFSETTO:-0500
TZNAME:EST
DTSTART:20221106T060000
END:STANDARD
BEGIN:DAYLIGHT
TZOFFSETFROM:-0500
TZOFFSETTO:-0400
TZNAME:EDT
DTSTART:20230312T070000
END:DAYLIGHT
BEGIN:STANDARD
TZOFFSETFROM:-0400
TZOFFSETTO:-0500
TZNAME:EST
DTSTART:20231105T060000
END:STANDARD
BEGIN:DAYLIGHT
TZOFFSETFROM:-0500
TZOFFSETTO:-0400
TZNAME:EDT
DTSTART:20240310T070000
END:DAYLIGHT
BEGIN:STANDARD
TZOFFSETFROM:-0400
TZOFFSETTO:-0500
TZNAME:EST
DTSTART:20241103T060000
END:STANDARD
END:VTIMEZONE
BEGIN:VEVENT
DTSTART;TZID=America/New_York:20230914T080000
DTEND;TZID=America/New_York:20230914T170000
DTSTAMP:20260425T143544
CREATED:20230126T194204Z
LAST-MODIFIED:20230126T194204Z
UID:2684-1694678400-1694710800@www.below100.org
SUMMARY:Below 100 Intensive Course  -  South Bend\, IN
DESCRIPTION:This course is designed to drastically reduce law enforcement Line of Duty Deaths (LODD’s) and specifically addresses the operational areas of law enforcement that contribute to the greatest number of LODD’s\, but are in large part preventable. \nThe Below 100 program is an effort to instill a culture of safety in law enforcement agencies that will progressively reduce national LODD’s to Below 100 annually. \n\nClass Title                            Below 100 Intensive\nClass Date                           Thursday September 14\, 2023\nClass Time                           8:00am-12:00pm or 1:00pm-5:00pm\nClass Location                     South Bend Police Department 701 West Sample Street South Bend\, IN 46601\nClass Instructor                   Core Instructor Tom Gillman\nRegistration info                 ebeserra@southbendin.gov or call Emma Beserra 574-235-9224\nAdditional Information:Below 100 South Bend In 9 14 2023
URL:https://www.below100.org/event/below-100-intensive-course-south-bend-in-3/
LOCATION:South Bend Police Department\, 701 W Sample Street\, South Bend\, IN\, 46601\, United States
CATEGORIES:Below 100 Training Events,Indiana Events
END:VEVENT
BEGIN:VEVENT
DTSTART;TZID=America/New_York:20230406T080000
DTEND;TZID=America/New_York:20230406T120000
DTSTAMP:20260425T143544
CREATED:20230126T193913Z
LAST-MODIFIED:20230126T193913Z
UID:2681-1680768000-1680782400@www.below100.org
SUMMARY:Below 100 Intensive Course - South Bend\, IN
DESCRIPTION:This course is designed to drastically reduce law enforcement Line of Duty Deaths (LODD’s) and specifically addresses the operational areas of law enforcement that contribute to the greatest number of LODD’s\, but are in large part preventable. \nThe Below 100 program is an effort to instill a culture of safety in law enforcement agencies that will progressively reduce national LODD’s to Below 100 annually. \n  \n\nClass Title                            Below 100 Intensive\nClass Date                           Thursday April 6\, 2023\nClass Time                           8:00am-12:00pm or 1:00pm-5:00pm\nClass Location                     South Bend Police Department 701 West Sample Street South      Bend\, IN 46601\nClass Instructor                   Core Instructor Tom Gillman\nRegistration info                 ebeserra@southbendin.gov or call Emma Beserra 574-235-9224\nAdditional Info:                   Below 100 South Bend In 4 6 2023
URL:https://www.below100.org/event/below-100-intensive-course-south-bend-in-2/
LOCATION:South Bend Police Department\, 701 W Sample Street\, South Bend\, IN\, 46601\, United States
CATEGORIES:Below 100 Training Events,Indiana Events
END:VEVENT
BEGIN:VEVENT
DTSTART;TZID=America/New_York:20190918T080000
DTEND;TZID=America/New_York:20190918T170000
DTSTAMP:20260425T143544
CREATED:20190909T175758Z
LAST-MODIFIED:20190909T175901Z
UID:2303-1568793600-1568826000@www.below100.org
SUMMARY:Below 100 Intensive - South Bend\, IN
DESCRIPTION:This course is designed to drastically reduce law enforcement Line of Duty Deaths (LODD’s) and specifically addresses the operational areas of law enforcement that contribute to the greatest number of LODD’s\, but are in large part preventable. \n The Below 100 program is an effort to instill a culture of safety in law enforcement agencies that will progressively reduce national LODD’s to Below 100 annually. \n\n Class Title                   Below 100 Intensive\n Class Date                   September 18\, 2019\n Class Times                  8:00am-12:00pm OR 1:00pm-5:00pm\n Class Location            South Bend Police Department 701 West Sample St South Bend\, Indiana 46601\n Class Instructor           Tom Gillman\, Core Instructor\n Registration information         Contact Emma Beserra TX (574)235-9224 or email ebeserra@southbendin.gov    \nFor More Information – Below 100 South Bend Indiana 9 18 2019
URL:https://www.below100.org/event/below-100-intensive-south-bend-in/
LOCATION:South Bend Police Department\, 701 W Sample Street\, South Bend\, IN\, 46601\, United States
CATEGORIES:Below 100 Training Events,Indiana Events
END:VEVENT
END:VCALENDAR