BEGIN:VCALENDAR
VERSION:2.0
PRODID:-//BELOW100.ORG - ECPv6.15.17.1//NONSGML v1.0//EN
CALSCALE:GREGORIAN
METHOD:PUBLISH
X-WR-CALNAME:BELOW100.ORG
X-ORIGINAL-URL:https://www.below100.org
X-WR-CALDESC:Events for BELOW100.ORG
REFRESH-INTERVAL;VALUE=DURATION:PT1H
X-Robots-Tag:noindex
X-PUBLISHED-TTL:PT1H
BEGIN:VTIMEZONE
TZID:America/New_York
BEGIN:DAYLIGHT
TZOFFSETFROM:-0500
TZOFFSETTO:-0400
TZNAME:EDT
DTSTART:20180311T070000
END:DAYLIGHT
BEGIN:STANDARD
TZOFFSETFROM:-0400
TZOFFSETTO:-0500
TZNAME:EST
DTSTART:20181104T060000
END:STANDARD
BEGIN:DAYLIGHT
TZOFFSETFROM:-0500
TZOFFSETTO:-0400
TZNAME:EDT
DTSTART:20190310T070000
END:DAYLIGHT
BEGIN:STANDARD
TZOFFSETFROM:-0400
TZOFFSETTO:-0500
TZNAME:EST
DTSTART:20191103T060000
END:STANDARD
BEGIN:DAYLIGHT
TZOFFSETFROM:-0500
TZOFFSETTO:-0400
TZNAME:EDT
DTSTART:20200308T070000
END:DAYLIGHT
BEGIN:STANDARD
TZOFFSETFROM:-0400
TZOFFSETTO:-0500
TZNAME:EST
DTSTART:20201101T060000
END:STANDARD
END:VTIMEZONE
BEGIN:VEVENT
DTSTART;VALUE=DATE:20190307
DTEND;VALUE=DATE:20190309
DTSTAMP:20260425T155039
CREATED:20190115T231846Z
LAST-MODIFIED:20190115T231846Z
UID:2118-1551916800-1552089599@www.below100.org
SUMMARY:Below 100 - FBINAA Officer Resiliency\, Safety and Wellness Leadership Forum
DESCRIPTION:Below 100 is honored to be a presenter during the FBINAA Officer Resiliency\, Safety and Wellness Leadership Forum.  \nThis conference will bring together law enforcement executives who will share resilience\, safety and wellness studies. The conference attendees will receive training that will improve and save lives\, families and careers of officers around the globe. \nMarch 7-8\, 2019\nGuaranteed Rate Field Conference Center\nChicago\, IL \n   \n 
URL:https://www.below100.org/event/below-100-fbinaa-officer-resiliency-safety-and-wellness-leadership-forum/
LOCATION:Guaranteed Rate Field Conference Center\, 333 West 35th Street\, Chicago\, United States
CATEGORIES:Below 100 Training Events,FBINAA Events,Illinois Events
END:VEVENT
END:VCALENDAR