BEGIN:VCALENDAR
VERSION:2.0
PRODID:-//BELOW100.ORG - ECPv6.15.17.1//NONSGML v1.0//EN
CALSCALE:GREGORIAN
METHOD:PUBLISH
X-WR-CALNAME:BELOW100.ORG
X-ORIGINAL-URL:https://www.below100.org
X-WR-CALDESC:Events for BELOW100.ORG
REFRESH-INTERVAL;VALUE=DURATION:PT1H
X-Robots-Tag:noindex
X-PUBLISHED-TTL:PT1H
BEGIN:VTIMEZONE
TZID:America/Los_Angeles
BEGIN:DAYLIGHT
TZOFFSETFROM:-0800
TZOFFSETTO:-0700
TZNAME:PDT
DTSTART:20240310T100000
END:DAYLIGHT
BEGIN:STANDARD
TZOFFSETFROM:-0700
TZOFFSETTO:-0800
TZNAME:PST
DTSTART:20241103T090000
END:STANDARD
BEGIN:DAYLIGHT
TZOFFSETFROM:-0800
TZOFFSETTO:-0700
TZNAME:PDT
DTSTART:20250309T100000
END:DAYLIGHT
BEGIN:STANDARD
TZOFFSETFROM:-0700
TZOFFSETTO:-0800
TZNAME:PST
DTSTART:20251102T090000
END:STANDARD
BEGIN:DAYLIGHT
TZOFFSETFROM:-0800
TZOFFSETTO:-0700
TZNAME:PDT
DTSTART:20260308T100000
END:DAYLIGHT
BEGIN:STANDARD
TZOFFSETFROM:-0700
TZOFFSETTO:-0800
TZNAME:PST
DTSTART:20261101T090000
END:STANDARD
END:VTIMEZONE
BEGIN:VTIMEZONE
TZID:America/New_York
BEGIN:DAYLIGHT
TZOFFSETFROM:-0500
TZOFFSETTO:-0400
TZNAME:EDT
DTSTART:20180311T070000
END:DAYLIGHT
BEGIN:STANDARD
TZOFFSETFROM:-0400
TZOFFSETTO:-0500
TZNAME:EST
DTSTART:20181104T060000
END:STANDARD
BEGIN:DAYLIGHT
TZOFFSETFROM:-0500
TZOFFSETTO:-0400
TZNAME:EDT
DTSTART:20190310T070000
END:DAYLIGHT
BEGIN:STANDARD
TZOFFSETFROM:-0400
TZOFFSETTO:-0500
TZNAME:EST
DTSTART:20191103T060000
END:STANDARD
BEGIN:DAYLIGHT
TZOFFSETFROM:-0500
TZOFFSETTO:-0400
TZNAME:EDT
DTSTART:20200308T070000
END:DAYLIGHT
BEGIN:STANDARD
TZOFFSETFROM:-0400
TZOFFSETTO:-0500
TZNAME:EST
DTSTART:20201101T060000
END:STANDARD
BEGIN:DAYLIGHT
TZOFFSETFROM:-0500
TZOFFSETTO:-0400
TZNAME:EDT
DTSTART:20210314T070000
END:DAYLIGHT
BEGIN:STANDARD
TZOFFSETFROM:-0400
TZOFFSETTO:-0500
TZNAME:EST
DTSTART:20211107T060000
END:STANDARD
BEGIN:DAYLIGHT
TZOFFSETFROM:-0500
TZOFFSETTO:-0400
TZNAME:EDT
DTSTART:20220313T070000
END:DAYLIGHT
BEGIN:STANDARD
TZOFFSETFROM:-0400
TZOFFSETTO:-0500
TZNAME:EST
DTSTART:20221106T060000
END:STANDARD
BEGIN:DAYLIGHT
TZOFFSETFROM:-0500
TZOFFSETTO:-0400
TZNAME:EDT
DTSTART:20230312T070000
END:DAYLIGHT
BEGIN:STANDARD
TZOFFSETFROM:-0400
TZOFFSETTO:-0500
TZNAME:EST
DTSTART:20231105T060000
END:STANDARD
BEGIN:DAYLIGHT
TZOFFSETFROM:-0500
TZOFFSETTO:-0400
TZNAME:EDT
DTSTART:20240310T070000
END:DAYLIGHT
BEGIN:STANDARD
TZOFFSETFROM:-0400
TZOFFSETTO:-0500
TZNAME:EST
DTSTART:20241103T060000
END:STANDARD
BEGIN:DAYLIGHT
TZOFFSETFROM:-0500
TZOFFSETTO:-0400
TZNAME:EDT
DTSTART:20250309T070000
END:DAYLIGHT
BEGIN:STANDARD
TZOFFSETFROM:-0400
TZOFFSETTO:-0500
TZNAME:EST
DTSTART:20251102T060000
END:STANDARD
END:VTIMEZONE
BEGIN:VEVENT
DTSTART;TZID=America/Los_Angeles:20250522T130000
DTEND;TZID=America/Los_Angeles:20250522T170000
DTSTAMP:20260425T125555
CREATED:20250317T173725Z
LAST-MODIFIED:20250317T173725Z
UID:3087-1747918800-1747933200@www.below100.org
SUMMARY:Below 100 Intensive Course - Marianna FL
DESCRIPTION:The Below 100 program is an effort to instill a culture of safety in law enforcement agencies that will progressively reduce national LODD’s to Below 100 annually. \nDate:  May 22\, 2025\nTime:  1pm-5pm\nLocation:  Public Service Building – Lecture Hall\, 4487 Longhouse Court Circle\, Marianna\, FL 32446\nTo register click here: Below 100 – Hosted by Jackson CSO\nContact: John Burdock\n(850) 633-7536\nOr Sgt. Travis Pickels\nTravis.Pickels@jacksonso.com
URL:https://www.below100.org/event/below-100-intensive-course-marianna-fl-2/
LOCATION:Public Service Building\, 4487 Longhouse Court Circle\, Marianna\, FL\, 32446
CATEGORIES:Below 100 Training Events,Florida Events
END:VEVENT
BEGIN:VEVENT
DTSTART;TZID=America/Los_Angeles:20250522T080000
DTEND;TZID=America/Los_Angeles:20250522T120000
DTSTAMP:20260425T125555
CREATED:20250317T173624Z
LAST-MODIFIED:20250317T173624Z
UID:3084-1747900800-1747915200@www.below100.org
SUMMARY:Below 100 Intensive Course - Marianna  FL
DESCRIPTION:This course is designed to drastically reduce law enforcement Line of Duty Deaths (LODD’s) and specifically addresses the operational areas of law enforcement that contribute to the greatest number of LODD’s\, but are in large part preventable. \nThe Below 100 program is an effort to instill a culture of safety in law enforcement agencies that will progressively reduce national LODD’s to Below 100 annually. \nDate:  May 22\, 2025\nTime:  8am-12pm\nLocation:  Public Service Building – Lecture Hall\, 4487 Longhouse Court Circle\, Marianna\, FL 32446\nTo register click here: Below 100 – Hosted by Jackson CSO\nContact: John Burdock\n(850) 633-7536\nOr Sgt. Travis Pickels\nTravis.Pickels@jacksonso.com
URL:https://www.below100.org/event/below-100-intensive-course-marianna-fl/
LOCATION:Public Service Building\, 4487 Longhouse Court Circle\, Marianna\, FL\, 32446
CATEGORIES:Below 100 Training Events,Florida Events
END:VEVENT
BEGIN:VEVENT
DTSTART;TZID=America/Los_Angeles:20250520T130000
DTEND;TZID=America/Los_Angeles:20250520T170000
DTSTAMP:20260425T125555
CREATED:20250317T173331Z
LAST-MODIFIED:20250317T173331Z
UID:3082-1747746000-1747760400@www.below100.org
SUMMARY:Below 100 Intensive Course - Madison FL
DESCRIPTION:This course is designed to drastically reduce law enforcement Line of Duty Deaths (LODD’s) and specifically addresses the operational areas of law enforcement that contribute to the greatest number of LODD’s\, but are in large part preventable. \nThe Below 100 program is an effort to instill a culture of safety in law enforcement agencies that will progressively reduce national LODD’s to Below 100 annually. \nDate:  May 20\, 2025\nTime:  1pm-5pm\nLocation: North Florida College of Public Safety\, 639 NW Mockingbird Trail\, Building 35\, Madison  FL 32340\nTo register click here: Below 100 – Hosted by Madison CSO\nContact: Captain Jarrod Lauth\n(850) 973-7991\nJarrod.lauth@mcso-fl.org
URL:https://www.below100.org/event/below-100-intensive-course-madison-fl-2/
LOCATION:North Florida College of Public Safety\, 639 NW Mockingbird Trail\, Bldg. 35\, Madison\, FL\, 32340
CATEGORIES:Below 100 Training Events,Florida Events
END:VEVENT
BEGIN:VEVENT
DTSTART;TZID=America/Los_Angeles:20250520T080000
DTEND;TZID=America/Los_Angeles:20250520T120000
DTSTAMP:20260425T125555
CREATED:20250317T173226Z
LAST-MODIFIED:20250317T173226Z
UID:3079-1747728000-1747742400@www.below100.org
SUMMARY:Below 100 Intensive Course - Madison FL
DESCRIPTION:This course is designed to drastically reduce law enforcement Line of Duty Deaths (LODD’s) and specifically addresses the operational areas of law enforcement that contribute to the greatest number of LODD’s\, but are in large part preventable. \nThe Below 100 program is an effort to instill a culture of safety in law enforcement agencies that will progressively reduce national LODD’s to Below 100 annually. \nDate:  May 20\, 2025\nTime:  8am-12pm\nLocation: North Florida College of Public Safety\, 639 NW Mockingbird Trail\, Building 35\, Madison  FL 32340\nTo register click here: Below 100 – Hosted by Madison CSO\nContact: Captain Jarrod Lauth\n(850) 973-7991\nJarrod.lauth@mcso-fl.org
URL:https://www.below100.org/event/below-100-intensive-course-madison-fl/
LOCATION:North Florida College of Public Safety\, 639 NW Mockingbird Trail\, Bldg. 35\, Madison\, FL\, 32340
CATEGORIES:Below 100 Training Events,Florida Events
END:VEVENT
BEGIN:VEVENT
DTSTART;TZID=America/Los_Angeles:20250514T130000
DTEND;TZID=America/Los_Angeles:20250514T170000
DTSTAMP:20260425T125555
CREATED:20250317T172020Z
LAST-MODIFIED:20250317T172020Z
UID:3067-1747227600-1747242000@www.below100.org
SUMMARY:Below 100 Intensive Course - Okeechobee  FL
DESCRIPTION:This course is designed to drastically reduce law enforcement Line of Duty Deaths (LODD’s) and specifically addresses the operational areas of law enforcement that contribute to the greatest number of LODD’s\, but are in large part preventable. \nThe Below 100 program is an effort to instill a culture of safety in law enforcement agencies that will progressively reduce national LODD’s to Below 100 annually. \nDate:  May 14\, 2025\nTime:  1pm-5pm\nLocation: Indian River State College\, Building A – Classroom 100\, 2229 NW 9th Avenue\, Okeechobee FL 34972\nRegistration – click here: Below 100 – Hosted by Okeechobee CSO\nContact: Corporal Demarcus Dixon\n(863) 763-3117\nddixon@okeesheriff.com
URL:https://www.below100.org/event/below-100-intensive-course-okeechobee-fl-4/
LOCATION:Indian River State College\, 2229 NW 9th Ave\, Okeechobee\, FL\, 34972
CATEGORIES:Below 100 Training Events,Florida Events
END:VEVENT
BEGIN:VEVENT
DTSTART;TZID=America/Los_Angeles:20250513T130000
DTEND;TZID=America/Los_Angeles:20250513T170000
DTSTAMP:20260425T125555
CREATED:20250317T171924Z
LAST-MODIFIED:20250317T171924Z
UID:3065-1747141200-1747155600@www.below100.org
SUMMARY:Below 100 Intensive Course  - Okeechobee FL
DESCRIPTION:This course is designed to drastically reduce law enforcement Line of Duty Deaths (LODD’s) and specifically addresses the operational areas of law enforcement that contribute to the greatest number of LODD’s\, but are in large part preventable. \nThe Below 100 program is an effort to instill a culture of safety in law enforcement agencies that will progressively reduce national LODD’s to Below 100 annually. \nDate:  May 13\, 2025\nTime:  1pm-5pm\nLocation: Indian River State College\, Building A – Classroom 100\, 2229 NW 9th Avenue\, Okeechobee FL 34972\nRegistration – click here: Below 100 – Hosted by Okeechobee CSO\nContact: Corporal Demarcus Dixon\n(863) 763-3117\nddixon@okeesheriff.com
URL:https://www.below100.org/event/below-100-intensive-course-okeechobee-fl-3/
LOCATION:Indian River State College\, 2229 NW 9th Ave\, Okeechobee\, FL\, 34972
CATEGORIES:Below 100 Training Events,Florida Events
END:VEVENT
BEGIN:VEVENT
DTSTART;TZID=America/Los_Angeles:20250502T130000
DTEND;TZID=America/Los_Angeles:20250502T170000
DTSTAMP:20260425T125555
CREATED:20250317T172832Z
LAST-MODIFIED:20250317T172832Z
UID:3077-1746190800-1746205200@www.below100.org
SUMMARY:Below 100 Instructor Course - Vero Beach FL
DESCRIPTION:This course is designed to drastically reduce law enforcement Line of Duty Deaths (LODD’s) and specifically addresses the operational areas of law enforcement that contribute to the greatest number of LODD’s\, but are in large part preventable. \nThe Below 100 program is an effort to instill a culture of safety in law enforcement agencies that will progressively reduce national LODD’s to Below 100 annually. \nDate:  May 2\, 2025\nTime:  1pm-5pm – YOU MUST COMPLETE THE INTENSIVE COURSE  PRIOR TO ATTENDING THE INSTRUCTOR COURSE\nLocation:Indian River Sheriff’s Office – Auditorium\, 4055 41st Avenue\, Vero Beach\, FL 32960\nRegistration – click here: Below 100 Hosted by Indian River CSO \nContact: Jennifer Gelesky (772) 978-6317 (Office)\n(772) 365-1118 (Cell)\njgelesky@ircsheriff.org
URL:https://www.below100.org/event/below-100-instructor-course-vero-beach-fl/
LOCATION:Indian River Sheriff’s  Office\, 4055 41st Ave\, Vero Beach\, FL\, 32960
CATEGORIES:Below 100 Training Events,Florida Events,Instructor & Implementation Class
END:VEVENT
BEGIN:VEVENT
DTSTART;TZID=America/Los_Angeles:20250502T080000
DTEND;TZID=America/Los_Angeles:20250502T120000
DTSTAMP:20260425T125555
CREATED:20250317T172643Z
LAST-MODIFIED:20250317T172643Z
UID:3074-1746172800-1746187200@www.below100.org
SUMMARY:Below 100 Intensive Course-Vero Beach FL
DESCRIPTION:This course is designed to drastically reduce law enforcement Line of Duty Deaths (LODD’s) and specifically addresses the operational areas of law enforcement that contribute to the greatest number of LODD’s\, but are in large part preventable. \nThe Below 100 program is an effort to instill a culture of safety in law enforcement agencies that will progressively reduce national LODD’s to Below 100 annually. \nDate:  May 2\, 2025\nTime:  8am-12pm\nLocation:Indian River Sheriff’s Office – Auditorium\, 4055 41st Avenue\, Vero Beach\, FL 32960\nRegistration – click here: Below 100 Hosted by Indian River CSO \nContact: Jennifer Gelesky (772) 978-6317 (Office)\n(772) 365-1118 (Cell)\njgelesky@ircsheriff.org
URL:https://www.below100.org/event/below-100-intensive-course-vero-beach-fl-3/
LOCATION:Indian River Sheriff’s  Office\, 4055 41st Ave\, Vero Beach\, FL\, 32960
CATEGORIES:Below 100 Training Events,Florida Events
END:VEVENT
BEGIN:VEVENT
DTSTART;TZID=America/Los_Angeles:20250501T130000
DTEND;TZID=America/Los_Angeles:20250501T170000
DTSTAMP:20260425T125555
CREATED:20250317T172551Z
LAST-MODIFIED:20250317T172551Z
UID:3072-1746104400-1746118800@www.below100.org
SUMMARY:Below 100 Intensive Course - Vero Beach FL
DESCRIPTION:This course is designed to drastically reduce law enforcement Line of Duty Deaths (LODD’s) and specifically addresses the operational areas of law enforcement that contribute to the greatest number of LODD’s\, but are in large part preventable. \nThe Below 100 program is an effort to instill a culture of safety in law enforcement agencies that will progressively reduce national LODD’s to Below 100 annually. \nDate:  May  1\, 2025\nTime:  1pm-5pm\nLocation:Indian River Sheriff’s Office – Auditorium\, 4055 41st Avenue\, Vero Beach\, FL 32960\nRegistration – click here: Below 100 Hosted by Indian River CSO \nContact: Jennifer Gelesky (772) 978-6317 (Office)\n(772) 365-1118 (Cell)\njgelesky@ircsheriff.org
URL:https://www.below100.org/event/below-100-intensive-course-vero-beach-fl-2/
LOCATION:Indian River Sheriff’s  Office\, 4055 41st Ave\, Vero Beach\, FL\, 32960
CATEGORIES:Below 100 Training Events,Florida Events
END:VEVENT
BEGIN:VEVENT
DTSTART;TZID=America/Los_Angeles:20250501T080000
DTEND;TZID=America/Los_Angeles:20250501T120000
DTSTAMP:20260425T125555
CREATED:20250317T172449Z
LAST-MODIFIED:20250317T172449Z
UID:3069-1746086400-1746100800@www.below100.org
SUMMARY:Below 100 Intensive Course - Vero Beach FL
DESCRIPTION:This course is designed to drastically reduce law enforcement Line of Duty Deaths (LODD’s) and specifically addresses the operational areas of law enforcement that contribute to the greatest number of LODD’s\, but are in large part preventable. \nThe Below 100 program is an effort to instill a culture of safety in law enforcement agencies that will progressively reduce national LODD’s to Below 100 annually. \nDate:  May  1\, 2025\nTime:  8am-12pm\nLocation:Indian River Sheriff’s Office – Auditorium\, 4055 41st Avenue\, Vero Beach\, FL 32960\nRegistration – click here: Below 100 Hosted by Indian River CSO \nContact: Jennifer Gelesky (772) 978-6317 (Office)\n(772) 365-1118 (Cell)\njgelesky@ircsheriff.org
URL:https://www.below100.org/event/below-100-intensive-course-vero-beach-fl/
LOCATION:Indian River Sheriff’s  Office\, 4055 41st Ave\, Vero Beach\, FL\, 32960
CATEGORIES:Below 100 Training Events,Florida Events
END:VEVENT
BEGIN:VEVENT
DTSTART;TZID=America/Los_Angeles:20250430T130000
DTEND;TZID=America/Los_Angeles:20250430T170000
DTSTAMP:20260425T125555
CREATED:20250317T171816Z
LAST-MODIFIED:20250317T171816Z
UID:3062-1746018000-1746032400@www.below100.org
SUMMARY:Below 100 Intensive Course - Okeechobee FL
DESCRIPTION:This course is designed to drastically reduce law enforcement Line of Duty Deaths (LODD’s) and specifically addresses the operational areas of law enforcement that contribute to the greatest number of LODD’s\, but are in large part preventable. \nThe Below 100 program is an effort to instill a culture of safety in law enforcement agencies that will progressively reduce national LODD’s to Below 100 annually. \nDate:  April 30\, 2025\nTime:  1pm-5pm\nLocation: Indian River State College\, Building A – Classroom 100\, 2229 NW 9th Avenue\, Okeechobee FL 34972\nRegistration – click here: Below 100 – Hosted by Okeechobee CSO\nContact: Corporal Demarcus Dixon\n(863) 763-3117\nddixon@okeesheriff.com
URL:https://www.below100.org/event/below-100-intensive-course-okeechobee-fl-2/
LOCATION:Indian River State College\, 2229 NW 9th Ave\, Okeechobee\, FL\, 34972
CATEGORIES:Below 100 Training Events,Florida Events
END:VEVENT
BEGIN:VEVENT
DTSTART;TZID=America/Los_Angeles:20250429T130000
DTEND;TZID=America/Los_Angeles:20250429T170000
DTSTAMP:20260425T125555
CREATED:20250317T171718Z
LAST-MODIFIED:20250317T171718Z
UID:3059-1745931600-1745946000@www.below100.org
SUMMARY:Below 100 Intensive Course - Okeechobee\, FL
DESCRIPTION:This course is designed to drastically reduce law enforcement Line of Duty Deaths (LODD’s) and specifically addresses the operational areas of law enforcement that contribute to the greatest number of LODD’s\, but are in large part preventable. \nThe Below 100 program is an effort to instill a culture of safety in law enforcement agencies that will progressively reduce national LODD’s to Below 100 annually. \nDate:  April 29\, 2025\nTime:  1pm-5pm\nLocation: Indian River State College\, Building A – Classroom 100\, 2229 NW 9th Avenue\, Okeechobee FL 34972\nRegistration – click here: Below 100 – Hosted by Okeechobee CSO\nContact: Corporal Demarcus Dixon\n(863) 763-3117\nddixon@okeesheriff.com
URL:https://www.below100.org/event/below-100-intensive-course-okeechobee-fl/
LOCATION:Indian River State College\, 2229 NW 9th Ave\, Okeechobee\, FL\, 34972
CATEGORIES:Below 100 Training Events,Florida Events
END:VEVENT
BEGIN:VEVENT
DTSTART;TZID=America/New_York:20241206T080000
DTEND;TZID=America/New_York:20241206T120000
DTSTAMP:20260425T125555
CREATED:20241122T193547Z
LAST-MODIFIED:20241122T193547Z
UID:2782-1733472000-1733486400@www.below100.org
SUMMARY:Below 100 Intensive - Fort Walton Beach\, FL
DESCRIPTION:This course is designed to drastically reduce law enforcement Line of Duty Deaths (LODD’s) and specifically addresses the operational areas of law enforcement that contribute to the greatest number of LODD’s\, but are in large part preventable. \nThe Below 100 program is an effort to instill a culture of safety in law enforcement agencies that will progressively reduce national LODD’s to Below 100 annually. \n\nClass Date: December 6\, 2024\nClass Time: 8:00AM-12:00PM\nClass Location: Fort Walton Beach Police Department\, Training Room\n7 Hollywood Blvd. NE\nFort Walton Beach\, FL 32548\nClass Instructor: Seth Williams\nRegistration information: Register by email to swilliams@fwb.org\nBelow 100 Flyer December 2024\n\n  \n 
URL:https://www.below100.org/event/below-100-intensive-fort-walton-beach-fl/
LOCATION:Fort Walton Beach Police Dept\, 7 Hollywood Blvd.\, NE\, Fort Walton Beach\, FL\, 32548\, United States
CATEGORIES:Below 100 Training Events,Florida Events
END:VEVENT
BEGIN:VEVENT
DTSTART;TZID=America/New_York:20240227T080000
DTEND;TZID=America/New_York:20240227T150000
DTSTAMP:20260425T125555
CREATED:20240223T210557Z
LAST-MODIFIED:20240223T210557Z
UID:2737-1709020800-1709046000@www.below100.org
SUMMARY:Below 100 Intensive Training - Crestview\, FL
DESCRIPTION:This course is designed to drastically reduce law enforcement Line of Duty Deaths (LODD’s) and specifically addresses the operational areas of law enforcement that contribute to the greatest number of LODD’s\, but are in large part preventable. \nThe Below 100 program is an effort to instill a culture of safety in law enforcement agencies that will progressively reduce national LODD’s to Below 100 annually. \nDate: February 27\, 2024\nTime: 8am-3pm\nLocation: 201 Stillwell\, Crestview FL 32539\nRegistration: Contact Seth Williams at swilliams@fwb.org \nInstructor: Seth Williams\, Fort Walton Beach Police Department \n \n  \n 
URL:https://www.below100.org/event/below-100-intensive-training-crestview-fl/
LOCATION:Crestview Police Department\, 201 Stillwell Blvd\, Crestview\, FL\, 32539\, United States
CATEGORIES:Below 100 Training Events,Florida Events
END:VEVENT
BEGIN:VEVENT
DTSTART;TZID=America/New_York:20240220T080000
DTEND;TZID=America/New_York:20240220T150000
DTSTAMP:20260425T125555
CREATED:20240125T212914Z
LAST-MODIFIED:20240125T212950Z
UID:2725-1708416000-1708441200@www.below100.org
SUMMARY:Below 100 Intensive - Crestview FL
DESCRIPTION:This course is designed to drastically reduce law enforcement Line of Duty Deaths (LODD’s) and specifically addresses the operational areas of law enforcement that contribute to the greatest number of LODD’s\, but are in large part preventable. \nThe Below 100 program is an effort to instill a culture of safety in law enforcement agencies that will progressively reduce national LODD’s to Below 100 annually. \nTime: 0800-1500   \nLocation: Crestview Police Department’s Warrior’s Hall\, 201 Stillwell Blvd. Crestview\, FL 32539  \nInstructor: Seth Williams\, Fort Walton Beach Police Department   \nRegistration Information: Email  swilliams@fwb.org (class limited to 100 each day)   \nTo view flyer\, click Below 100 Flyer Feb 2024-1
URL:https://www.below100.org/event/2725/
LOCATION:Crestview Police Department\, 201 Stillwell Blvd\, Crestview\, FL\, 32539\, United States
CATEGORIES:Below 100 Training Events,Florida Events
END:VEVENT
BEGIN:VEVENT
DTSTART;TZID=America/New_York:20240213T080000
DTEND;TZID=America/New_York:20240213T150000
DTSTAMP:20260425T125555
CREATED:20240125T212759Z
LAST-MODIFIED:20240125T212759Z
UID:2721-1707811200-1707836400@www.below100.org
SUMMARY:Below 100 Intensive - Crestview\, FL
DESCRIPTION:This course is designed to drastically reduce law enforcement Line of Duty Deaths (LODD’s) and specifically addresses the operational areas of law enforcement that contribute to the greatest number of LODD’s\, but are in large part preventable. \nThe Below 100 program is an effort to instill a culture of safety in law enforcement agencies that will progressively reduce national LODD’s to Below 100 annually. \nTime: 0800-1500   \nLocation: Crestview Police Department’s Warrior’s Hall\, 201 Stillwell Blvd. Crestview\, FL 32539  \nInstructor: Seth Williams\, Fort Walton Beach Police Department   \nRegistration Information: Email  swilliams@fwb.org (class limited to 100 each day)   \nTo view flyer\, click Below 100 Flyer Feb 2024-1
URL:https://www.below100.org/event/below-100-intensive-crestview-fl/
LOCATION:Crestview Police Department\, 201 Stillwell Blvd\, Crestview\, FL\, 32539\, United States
CATEGORIES:Below 100 Training Events,Florida Events
END:VEVENT
BEGIN:VEVENT
DTSTART;TZID=America/New_York:20190228T080000
DTEND;TZID=America/New_York:20190228T170000
DTSTAMP:20260425T125555
CREATED:20190109T000308Z
LAST-MODIFIED:20190109T000308Z
UID:2107-1551340800-1551373200@www.below100.org
SUMMARY:Below 100 Intensive - Okaloosa County (Shalimar) Florida
DESCRIPTION:This course is designed to drastically reduce law enforcement Line of Duty Deaths (LODD’s) and specifically addresses the operational areas of law enforcement that contribute to the greatest number of LODD’s\, but are in large part preventable. \n\nThe Below 100 program is an effort to instill a culture of safety in law enforcement agencies that will progressively reduce national LODD’s to Below 100 annually. \nFebruary 28\, 2019\n0800-1200 hrs – Below 100 Intensive Course\n13o0-1700 hrs – Below 100 Train the Trainer Course (please note you must attend the intensive course in order to attend the Train the Trainer)\nOkaloosa County Sheriff’s Office\n50 2nd Street\nShalimar\, FL 32579 \nFor registration\, please contact Roberta Holloway\,  850-613-2217\, rholloway@sheriff-okaloosa.org \nFor more information\, click here:  Okaloosa County SO Flyer
URL:https://www.below100.org/event/below-100-intensive-okaloosa-county-shalimar-florida/
LOCATION:Okaloosa County Sheriff’s Office\, 50 2nd Street\, Shalimar\, FL\, 32579\, United States
CATEGORIES:Below 100 Training Events,Florida Events
END:VEVENT
END:VCALENDAR