BEGIN:VCALENDAR
VERSION:2.0
PRODID:-//BELOW100.ORG - ECPv6.15.17.1//NONSGML v1.0//EN
CALSCALE:GREGORIAN
METHOD:PUBLISH
X-ORIGINAL-URL:https://www.below100.org
X-WR-CALDESC:Events for BELOW100.ORG
REFRESH-INTERVAL;VALUE=DURATION:PT1H
X-Robots-Tag:noindex
X-PUBLISHED-TTL:PT1H
BEGIN:VTIMEZONE
TZID:America/Chicago
BEGIN:DAYLIGHT
TZOFFSETFROM:-0600
TZOFFSETTO:-0500
TZNAME:CDT
DTSTART:20250309T080000
END:DAYLIGHT
BEGIN:STANDARD
TZOFFSETFROM:-0500
TZOFFSETTO:-0600
TZNAME:CST
DTSTART:20251102T070000
END:STANDARD
BEGIN:DAYLIGHT
TZOFFSETFROM:-0600
TZOFFSETTO:-0500
TZNAME:CDT
DTSTART:20260308T080000
END:DAYLIGHT
BEGIN:STANDARD
TZOFFSETFROM:-0500
TZOFFSETTO:-0600
TZNAME:CST
DTSTART:20261101T070000
END:STANDARD
BEGIN:DAYLIGHT
TZOFFSETFROM:-0600
TZOFFSETTO:-0500
TZNAME:CDT
DTSTART:20270314T080000
END:DAYLIGHT
BEGIN:STANDARD
TZOFFSETFROM:-0500
TZOFFSETTO:-0600
TZNAME:CST
DTSTART:20271107T070000
END:STANDARD
END:VTIMEZONE
BEGIN:VEVENT
DTSTART;TZID=America/Chicago:20260225T140000
DTEND;TZID=America/Chicago:20260225T180000
DTSTAMP:20260425T112356
CREATED:20260209T234543Z
LAST-MODIFIED:20260209T234543Z
UID:3480-1772028000-1772042400@www.below100.org
SUMMARY:Below 100 Intensive Course - Murfreesboro\, TN (Day 1)
DESCRIPTION:TRAINING SESSION: \nIntensive Course:  2PM – 6PM (no limit\, may attend this portion only) \nThis course is open to attendees from outside law enforcement agencies. \nLocation:\nMurfreesboro Police Department\n1004 N. Highland Avenue\nMurfreesboro\, TN 37130 \nHost Agency:\nMurfreesboro Police Department \nTo Register Contact:\nLt. Amy Denton\nE: 0316@murfreesborotn.gov\nP: (629) 201-5580 \n\nTraining provided by Below 100 Core Trainer Scot Haug. \nDownload: Promotional Flyer
URL:https://www.below100.org/event/below-100-intensive-course-murfreesboro-tn-day-1/
LOCATION:Murfreesboro Police Department\, 1004 N. Highland Avenue\, Murfreesboro\, TN\, 37130\, United States
ORGANIZER;CN="Lt. Amy Denton":MAILTO:0316@murfreesborotn.gov
END:VEVENT
END:VCALENDAR