BEGIN:VCALENDAR
VERSION:2.0
PRODID:-//BELOW100.ORG - ECPv6.15.17.1//NONSGML v1.0//EN
CALSCALE:GREGORIAN
METHOD:PUBLISH
X-WR-CALNAME:BELOW100.ORG
X-ORIGINAL-URL:https://www.below100.org
X-WR-CALDESC:Events for BELOW100.ORG
REFRESH-INTERVAL;VALUE=DURATION:PT1H
X-Robots-Tag:noindex
X-PUBLISHED-TTL:PT1H
BEGIN:VTIMEZONE
TZID:America/Los_Angeles
BEGIN:DAYLIGHT
TZOFFSETFROM:-0800
TZOFFSETTO:-0700
TZNAME:PDT
DTSTART:20240310T100000
END:DAYLIGHT
BEGIN:STANDARD
TZOFFSETFROM:-0700
TZOFFSETTO:-0800
TZNAME:PST
DTSTART:20241103T090000
END:STANDARD
BEGIN:DAYLIGHT
TZOFFSETFROM:-0800
TZOFFSETTO:-0700
TZNAME:PDT
DTSTART:20250309T100000
END:DAYLIGHT
BEGIN:STANDARD
TZOFFSETFROM:-0700
TZOFFSETTO:-0800
TZNAME:PST
DTSTART:20251102T090000
END:STANDARD
BEGIN:DAYLIGHT
TZOFFSETFROM:-0800
TZOFFSETTO:-0700
TZNAME:PDT
DTSTART:20260308T100000
END:DAYLIGHT
BEGIN:STANDARD
TZOFFSETFROM:-0700
TZOFFSETTO:-0800
TZNAME:PST
DTSTART:20261101T090000
END:STANDARD
END:VTIMEZONE
BEGIN:VEVENT
DTSTART;TZID=America/Los_Angeles:20251022T080000
DTEND;TZID=America/Los_Angeles:20251022T170000
DTSTAMP:20260425T185654
CREATED:20250829T020240Z
LAST-MODIFIED:20250829T022806Z
UID:3222-1761120000-1761152400@www.below100.org
SUMMARY:Below 100 Intensive / Train the Trainer Courses – Denver\, CO
DESCRIPTION:Training Sessions: \n\n\n\nIntensive Course:  8AM – 12PM\nTrain The Trainer Course:  1PM – 5PM** – Limit 15 attendees \n** You must attend the Intensive Course in order to attend the Train the Trainer Course \nThese courses are open to attendees from outside law enforcement agencies. \nLocation:\nRTD Commuter Rail Maintenance Facility\n701 W 48th Avenue\, Room 204\nDenver\, CO 80216 \nHosted By:\nRTD Transit Police Department \nRegistration:\nhttps://greatermetroregion.com/training-registration/ \nQuestions:\nContact Lt. Andrew Cross at (303) 299-2681 or andrew.cross@rtd-denver.com \n\nTraining provided by Below 100 Core Trainer Dale Stockton. \nDownload: Promotional Flyer
URL:https://www.below100.org/event/below-100-intensive-train-the-trainer-courses-denver-co/
LOCATION:RTD Commuter Rail Maintenance Facility\, 701 W 48th Avenue\, Room 204\, Denver\, CO\, 80216
ORGANIZER;CN="Lt. Andrew Cross":MAILTO:andrew.cross@rtd-denver.com
END:VEVENT
END:VCALENDAR