BEGIN:VCALENDAR
VERSION:2.0
PRODID:-//BELOW100.ORG - ECPv6.15.17.1//NONSGML v1.0//EN
CALSCALE:GREGORIAN
METHOD:PUBLISH
X-ORIGINAL-URL:https://www.below100.org
X-WR-CALDESC:Events for BELOW100.ORG
REFRESH-INTERVAL;VALUE=DURATION:PT1H
X-Robots-Tag:noindex
X-PUBLISHED-TTL:PT1H
BEGIN:VTIMEZONE
TZID:America/Los_Angeles
BEGIN:DAYLIGHT
TZOFFSETFROM:-0800
TZOFFSETTO:-0700
TZNAME:PDT
DTSTART:20240310T100000
END:DAYLIGHT
BEGIN:STANDARD
TZOFFSETFROM:-0700
TZOFFSETTO:-0800
TZNAME:PST
DTSTART:20241103T090000
END:STANDARD
BEGIN:DAYLIGHT
TZOFFSETFROM:-0800
TZOFFSETTO:-0700
TZNAME:PDT
DTSTART:20250309T100000
END:DAYLIGHT
BEGIN:STANDARD
TZOFFSETFROM:-0700
TZOFFSETTO:-0800
TZNAME:PST
DTSTART:20251102T090000
END:STANDARD
BEGIN:DAYLIGHT
TZOFFSETFROM:-0800
TZOFFSETTO:-0700
TZNAME:PDT
DTSTART:20260308T100000
END:DAYLIGHT
BEGIN:STANDARD
TZOFFSETFROM:-0700
TZOFFSETTO:-0800
TZNAME:PST
DTSTART:20261101T090000
END:STANDARD
END:VTIMEZONE
BEGIN:VEVENT
DTSTART;TZID=America/Los_Angeles:20250903T080000
DTEND;TZID=America/Los_Angeles:20250903T120000
DTSTAMP:20260425T201511
CREATED:20250814T034527Z
LAST-MODIFIED:20250814T122234Z
UID:3206-1756886400-1756900800@www.below100.org
SUMMARY:Below 100 Intensive Course - Monroeville\, PA
DESCRIPTION:Training Session:\n\n\n\nIntensive Course:  8AM – 12PM \nThis course is open to attendees from outside law enforcement agencies. \nLocation:\nMonroeville Public Safety Training Center\nFBI Auditorium Building\n2465 Johnston Road\nMonroeville\, PA 15146 \nCo-Hosted By:\nMonroeville Police Department\nMurrysville Police Department \nRegistration:\nContact Michele Dusch at (412) 856-3324 or duschm@monroeville.pa.us \n\nTraining provided by Below 100 Core Trainer Geoff Bush. \nDownload: Promotional Flyer
URL:https://www.below100.org/event/below-100-intensive-course-monroeville-pa/
LOCATION:Monroeville Public Safety Training Center\, 2465 Johnston Road\, Monroeville\, Pennsylvania\, 15146
ORGANIZER;CN="Michele Dusch":MAILTO:duschm@monroeville.pa.us
END:VEVENT
END:VCALENDAR